BEGIN:VCALENDAR
VERSION:2.0
PRODID:-//United Electronic Recycling - ECPv6.15.20//NONSGML v1.0//EN
CALSCALE:GREGORIAN
METHOD:PUBLISH
X-WR-CALNAME:United Electronic Recycling
X-ORIGINAL-URL:https://unitedelectronicrecycling.com
X-WR-CALDESC:Events for United Electronic Recycling
REFRESH-INTERVAL;VALUE=DURATION:PT1H
X-Robots-Tag:noindex
X-PUBLISHED-TTL:PT1H
BEGIN:VTIMEZONE
TZID:America/Chicago
BEGIN:DAYLIGHT
TZOFFSETFROM:-0600
TZOFFSETTO:-0500
TZNAME:CDT
DTSTART:20240310T080000
END:DAYLIGHT
BEGIN:STANDARD
TZOFFSETFROM:-0500
TZOFFSETTO:-0600
TZNAME:CST
DTSTART:20241103T070000
END:STANDARD
BEGIN:DAYLIGHT
TZOFFSETFROM:-0600
TZOFFSETTO:-0500
TZNAME:CDT
DTSTART:20250309T080000
END:DAYLIGHT
BEGIN:STANDARD
TZOFFSETFROM:-0500
TZOFFSETTO:-0600
TZNAME:CST
DTSTART:20251102T070000
END:STANDARD
BEGIN:DAYLIGHT
TZOFFSETFROM:-0600
TZOFFSETTO:-0500
TZNAME:CDT
DTSTART:20260308T080000
END:DAYLIGHT
BEGIN:STANDARD
TZOFFSETFROM:-0500
TZOFFSETTO:-0600
TZNAME:CST
DTSTART:20261101T070000
END:STANDARD
END:VTIMEZONE
BEGIN:VEVENT
DTSTART;TZID=America/Chicago:20250607T090000
DTEND;TZID=America/Chicago:20250607T120000
DTSTAMP:20260421T043259
CREATED:20250114T190242Z
LAST-MODIFIED:20250114T190242Z
UID:14294-1749286800-1749297600@unitedelectronicrecycling.com
SUMMARY:Electronic Recycling Event Near Plano\, TX
DESCRIPTION:This Electronic Recycling Event is in partnership with the City of Plano\, everyone is welcomed!  Participants drive through the line to recycle their unwanted\, outdated and broken electronics. The event will take place in the parking lot of First United Methodist Church\, located at 3160 E Spring Creek Pkwy\, Plano\, TX\, 75074.Only cash or check payments are accepted. All collected electronic waste is processed through R2V3 standards. \nPlease follow these rules when you bring items to Community Recycling sites: \n \n\nStay in your vehicle.\n1 car at a time will be unloaded\, so please wait in line patiently.\n\nDrop-off Event Disposal Fees: \n\nPrinters\, faxes and copiers – $5/item\nCRT monitors – $10/item\nTelevisions – $25/item\n\nFree to Recycle:  \n\nAll types of cables/wires\nDesktops\nLaptops\nServers\nKeyboards\nSpeakers\nUPS- Power Supplies\nTelephones\nRouters\nSwitches\nCell Phones\nRadios\nTablets\nGame Consoles\nCameras\nSatellite Dishes\nSecurity Systems\nCable Boxes\nChristmas Lights\nProjectors\nMicrowaves\nMixers\nToasters\nAir Fryers\nAir Purifiers/Diffusers\nRice cookers\nSmoke Detector\nVHS Tapes\n\nAll other electronic items are free of charge. For a detailed list on the items\, we accept.
URL:https://unitedelectronicrecycling.com/community-event/electronic-recycling-near-plano-tx-6-7-25/
LOCATION:First United Methodist\, 3160 E Spring Creek Pkwy\, Plano\, Texas\, 75074
CATEGORIES:Electronic Recycling Events
END:VEVENT
BEGIN:VEVENT
DTSTART;TZID=America/Chicago:20250614T090000
DTEND;TZID=America/Chicago:20250614T110000
DTSTAMP:20260421T043259
CREATED:20250114T190849Z
LAST-MODIFIED:20250114T190849Z
UID:14296-1749891600-1749898800@unitedelectronicrecycling.com
SUMMARY:Electronic Recycling & Paper Shredding Event Near Plano\, TX
DESCRIPTION:This Electronic Recycling Event is in partnership with the City of Plano\, everyone is welcomed!  Participants drive through the line to recycle their unwanted\, outdated and broken electronics. The event will take place in the parking lot of St Andrew Methodist Event Church\, located at 5801 W Plano Pkwy\, Plano\, TX\, 75093. Only cash or check payments are accepted. All collected electronic waste is processed through R2V3 standards. \nPlease follow these rules when you bring items to Community Recycling sites: \n \n\nStay in your vehicle.\n1 car at a time will be unloaded\, so please wait in line patiently.\n\nDrop-off Event Disposal Fees: \n\nPrinters\, faxes and copiers – $5/item\nCRT monitors – $10/item\nTelevisions – $25/item\n\nFree to Recycle:  \n\nAll types of cables\nDesktops\nServers\nKeyboards\nSpeakers\nUPS- Power Supplies\nTelephones\nRouters\nSwitches\nCell Phones\nRadios\nTablets\nGame Consoles\nCameras\nSatellite Dishes\nSecurity Systems\nCable Boxes\nChristmas Lights\nProjectors\nMicrowaves\nMixers\nToasters\n\nAll other electronic items are free of charge.  For a detailed list on the items\, we accept. \nAdditionally\, Mobile Shred It a NAID AAA certified company will be there for paper shredding.  All paper is shredded on-site at the event. We do ask to please remove large binder clips\, plastic\, binders\, coil binding and magnets. Once shredded\, all paper is recycled\, adhering to our zero-landfill initiative for sustainability. \nShredding/Disposal Fee: \n\nStandard bankers’ box (15″ x 12″ x 10″) – $10/box
URL:https://unitedelectronicrecycling.com/community-event/electronic-recycling-near-plano-tx-6-14-25/
LOCATION:St Andrew Methodist\, 5801 W Plano Pkwy\, Plano\, TX\, 75093\, United States
CATEGORIES:Electronic Recycling Events
END:VEVENT
BEGIN:VEVENT
DTSTART;TZID=America/Chicago:20250621T090000
DTEND;TZID=America/Chicago:20250621T110000
DTSTAMP:20260421T043300
CREATED:20250114T191412Z
LAST-MODIFIED:20250114T191412Z
UID:14298-1750496400-1750503600@unitedelectronicrecycling.com
SUMMARY:Electronic Recycling & Paper Shredding Event Near Plano\, TX
DESCRIPTION:This Electronic Recycling Event is in partnership with the City of Plano\, everyone is welcomed!  Participants drive through the line to recycle their unwanted\, outdated and broken electronics. The event will take place in the parking lot of Christ United Methodist Church\, located at 3101 Coit Rd\, Plano\, TX\, 75075. Only cash or check payments are accepted. Only cash or check payments are accepted. All collected electronic waste is processed through R2V3 standards. \nPlease follow these rules when you bring items to Community Recycling sites: \n \n\nStay in your vehicle.\n1 car at a time will be unloaded\, so please wait in line patiently.\n\nDrop-off Event Disposal Fees: \n\nPrinters\, faxes and copiers – $5/item\nCRT monitors – $10/item\nTelevisions – $25/item\n\nFree to Recycle:  \n\nAll types of cables\nDesktops\nServers\nKeyboards\nSpeakers\nUPS- Power Supplies\nTelephones\nRouters\nSwitches\nCell Phones\nRadios\nTablets\nGame Consoles\nCameras\nSatellite Dishes\nSecurity Systems\nCable Boxes\nChristmas Lights\nProjectors\nMicrowaves\nMixers\nToasters\n\nAll other electronic items are free of charge. For a detailed list on the items\, we accept. \nAdditionally\, our paper shredding division Mobile Shred It a NAID AAA certified company will be there.  All paper is shredded on-site at the event. We do ask to please remove large binder clips\, plastic\, binders\, coil binding and magnets. Once shredded\, all paper is recycled\, adhering to our zero-landfill initiative for sustainability. \nShredding/Disposal Fee: \n\nStandard bankers’ box (15″ x 12″ x 10″) – $10/box
URL:https://unitedelectronicrecycling.com/community-event/plano-electronic-recycling-event-6-21-25/
LOCATION:Christ United Methodist\, 3101 Coit Rd\, Plano\, TX\, 75075\, United States
CATEGORIES:Electronic Recycling Events
END:VEVENT
BEGIN:VEVENT
DTSTART;TZID=America/Chicago:20250628T090000
DTEND;TZID=America/Chicago:20250628T120000
DTSTAMP:20260421T043300
CREATED:20250214T204312Z
LAST-MODIFIED:20250728T145939Z
UID:14706-1751101200-1751112000@unitedelectronicrecycling.com
SUMMARY:DFW Recycles Day 2025
DESCRIPTION:In appreciation of our customers\, we will be hosting a free electronic recycling event at our facility in Coppell. All DFW residents are welcome to bring their electronics for recycling. Normally\, we have electronic recycling fees for televisions\, CRT monitors\, printers\, copiers\, and fax machines; however\, on June 28th\, we will be waiving all fees. \nThe 9:00–9:15 a.m. & 10:00-10:15a.m. time slot has reached its capacity. Please select from the times still available. \nElectronics Accepted: \n\nTelevisions ( Limit of two per customer)\nPrinters/Copiers/Fax Machines\nCRT Monitors\nLCD & LED Monitors\nLaptops\nDVD’s/CD’s\ne-Readers\nVHS tapes\nVideo Players\nAll types of cables\nDesktops\nServers\nKeyboards\nSpeakers\nUPS- Power Supplies\nHouse & Office Phones\nRouters\nSwitches\nCell Phones\nRadios\nTablets\nGame Consoles (Xbox \, PlayStation..)\nCameras\nSatellite Dishes\nCables & Cords\nSecurity Systems\nCable Boxes\nChristmas Lights\nProjectors\nRechargeable Batteries\nMicrowaves\nMixers\nToasters\nInk & Toner Cartridges\n\nFor a detailed list on the items\, we accept. \nAdditionally\, our paper shredding division Mobile Shred It a NAID AAA certified company will be shredding paper for free. All paper is shredded on-site at the event. We do ask to please remove large binder clips\, plastic\, binders\, coil binding and magnets. Once shredded\, all paper is recycled\, adhering to our zero-landfill initiative for sustainability. \nPlease follow these rules when you bring your items (Limit of four banker boxes per customer): \n\nStay in your vehicle.\n1 car at a time will be unloaded\, so please wait in line patiently.
URL:https://unitedelectronicrecycling.com/community-event/dfw-recycles-day-2025/
LOCATION:United Electronic Recycling Facility\, 505 Airline Dr.\, Coppell\, TX\, 75019\, United States
CATEGORIES:Electronic Recycling Events
END:VEVENT
END:VCALENDAR