BEGIN:VCALENDAR
VERSION:2.0
PRODID:-//United Electronic Recycling - ECPv6.15.20//NONSGML v1.0//EN
CALSCALE:GREGORIAN
METHOD:PUBLISH
X-ORIGINAL-URL:https://unitedelectronicrecycling.com
X-WR-CALDESC:Events for United Electronic Recycling
REFRESH-INTERVAL;VALUE=DURATION:PT1H
X-Robots-Tag:noindex
X-PUBLISHED-TTL:PT1H
BEGIN:VTIMEZONE
TZID:America/Chicago
BEGIN:DAYLIGHT
TZOFFSETFROM:-0600
TZOFFSETTO:-0500
TZNAME:CDT
DTSTART:20240310T080000
END:DAYLIGHT
BEGIN:STANDARD
TZOFFSETFROM:-0500
TZOFFSETTO:-0600
TZNAME:CST
DTSTART:20241103T070000
END:STANDARD
BEGIN:DAYLIGHT
TZOFFSETFROM:-0600
TZOFFSETTO:-0500
TZNAME:CDT
DTSTART:20250309T080000
END:DAYLIGHT
BEGIN:STANDARD
TZOFFSETFROM:-0500
TZOFFSETTO:-0600
TZNAME:CST
DTSTART:20251102T070000
END:STANDARD
BEGIN:DAYLIGHT
TZOFFSETFROM:-0600
TZOFFSETTO:-0500
TZNAME:CDT
DTSTART:20260308T080000
END:DAYLIGHT
BEGIN:STANDARD
TZOFFSETFROM:-0500
TZOFFSETTO:-0600
TZNAME:CST
DTSTART:20261101T070000
END:STANDARD
END:VTIMEZONE
BEGIN:VEVENT
DTSTART;TZID=America/Chicago:20250405T090000
DTEND;TZID=America/Chicago:20250405T120000
DTSTAMP:20260421T073208
CREATED:20250114T171258Z
LAST-MODIFIED:20250114T171258Z
UID:14275-1743843600-1743854400@unitedelectronicrecycling.com
SUMMARY:Electronic Recycling Event Near Plano\, TX
DESCRIPTION:This Electronic Recycling Event is in partnership with the City of Plano\, everyone is welcomed!  Participants drive through the line to recycle their unwanted\, outdated and broken electronics. The event will take place in the parking lot of First United Methodist Church\, located at 3160 E Spring Creek Pkwy\, Plano\, TX\, 75074.Only cash or check payments are accepted. All collected electronic waste is processed through R2V3 standards. \nPlease follow these rules when you bring items to Community Recycling sites: \n \n\nStay in your vehicle.\n1 car at a time will be unloaded\, so please wait in line patiently.\n\nDrop-off Event Disposal Fees: \n\nPrinters\, faxes and copiers – $5/item\nCRT monitors – $10/item\nTelevisions – $25/item\n\nFree to Recycle:  \n\nAll types of cables/wires\nDesktops\nLaptops\nServers\nKeyboards\nSpeakers\nUPS- Power Supplies\nTelephones\nRouters\nSwitches\nCell Phones\nRadios\nTablets\nGame Consoles\nCameras\nSatellite Dishes\nSecurity Systems\nCable Boxes\nChristmas Lights\nProjectors\nMicrowaves\nMixers\nToasters\nAir Fryers\nAir Purifiers/Diffusers\nRice cookers\nSmoke Detector\nVHS Tapes\n\nAll other electronic items are free of charge. For a detailed list on the items\, we accept.
URL:https://unitedelectronicrecycling.com/community-event/electronic-recycling-near-plano-tx-4-5-25/
LOCATION:First United Methodist\, 3160 E Spring Creek Pkwy\, Plano\, Texas\, 75074
CATEGORIES:Electronic Recycling Events
END:VEVENT
BEGIN:VEVENT
DTSTART;TZID=America/Chicago:20250412T080000
DTEND;TZID=America/Chicago:20250412T120000
DTSTAMP:20260421T073208
CREATED:20250324T171236Z
LAST-MODIFIED:20250403T132347Z
UID:14831-1744444800-1744459200@unitedelectronicrecycling.com
SUMMARY:Electronic Recycling & Paper Shredding Event Near Arlington\, TX
DESCRIPTION:Important Notice: This event was moved from April 5 to April 12 due to weather forecast.\nIn partnership with the City of Arlington we are having a Electronic Recycling & Paper Shredding Event. This event is for Arlington residents only\, and a valid driver’s license or utility bill is required. The event will take place in parking lot of the University of Arlington\, on the corner of Cooper and Doug Russell Rd. Only cash or check payments are accepted. \nDrop-off Event Disposal Fees: \n\nPrinters\, faxes and copiers – $5/item\nCRT monitors – $10/item\nTelevisions – $25/item\n\nFree to Recycle:  \n\nAll types of cables\nDesktops\nServers\nKeyboards\nSpeakers\nUPS- Power Supplies\nTelephones\nRouters\nSwitches\nCell Phones\nRadios\nTablets\nGame Consoles\nCameras\nSatellite Dishes\nSecurity Systems\nCable Boxes\nChristmas Lights\nProjectors\nMicrowaves\nMixers\nToasters\n\nAll other electronic items are free of charge. For a detailed list on the items\, we accept \nAdditionally our shredding company Mobile Shred It will be there for paper shredding.  All paper is shredded on-site at the event. We do ask to please remove large binder clips\, plastic\, binders\, coil binding and magnets. Once shredded\, all paper is recycled\, adhering to our zero-landfill initiative for sustainability. \nShredding/Disposal Fee: \n\nStandard bankers box (15″ x 12″ x 10″) – $10/box
URL:https://unitedelectronicrecycling.com/community-event/electronic-recycling-event-near-arlington-4-5-25/
LOCATION:701 S Neederman Dr.\, 701 S Neederman Dr.\, Arlington\, TX\, 76019\, United States
CATEGORIES:Electronic Recycling Events
END:VEVENT
BEGIN:VEVENT
DTSTART;TZID=America/Chicago:20250412T080000
DTEND;TZID=America/Chicago:20250412T120000
DTSTAMP:20260421T073208
CREATED:20250403T140840Z
LAST-MODIFIED:20250403T144610Z
UID:14865-1744444800-1744459200@unitedelectronicrecycling.com
SUMMARY:Electronic Recycling Event Near Murphy\, TX
DESCRIPTION:In partnership with the City of Murphy\, we are having a Free Electronic Recycling Event. This event is for Murphy residents only\, and a valid driver’s license or utility bill is required. The event will take place in the parking lot of Murphy City Hall\, located at 206 N Murphy Rd\, Murphy\, TX\, 75094. \nElectronics accepted: \n\nAll Televisions and Monitors\nAll Computers and Components\nAll Wires and Cables\nAll Network & Communication Equipment\nAll Consumer Electronics\nAll Audio/ Video Equipment\nBatteries and Backups (we do not accept alkaline batteries)\nKitchen Appliances (ex. blenders\, microwaves\, scales\, mixers)\n\nFor further information\, please visit
URL:https://unitedelectronicrecycling.com/community-event/murphy-electronic-recycling-4-12-25/
LOCATION:Murphy City Hall\, 206 N Murphy Rd\, Murphy\, 75094\, United States
CATEGORIES:Electronic Recycling Events
END:VEVENT
BEGIN:VEVENT
DTSTART;TZID=America/Chicago:20250412T090000
DTEND;TZID=America/Chicago:20250412T110000
DTSTAMP:20260421T073208
CREATED:20250114T171902Z
LAST-MODIFIED:20250114T171902Z
UID:14277-1744448400-1744455600@unitedelectronicrecycling.com
SUMMARY:Electronic Recycling & Paper Shredding Event Near Plano\, TX
DESCRIPTION:This Electronic Recycling Event is in partnership with the City of Plano\, everyone is welcomed!  Participants drive through the line to recycle their unwanted\, outdated and broken electronics. The event will take place in the parking lot of St Andrew Methodist Event Church\, located at 5801 W Plano Pkwy\, Plano\, TX\, 75093. Only cash or check payments are accepted. All collected electronic waste is processed through R2V3 standards. \nPlease follow these rules when you bring items to Community Recycling sites: \n \n\nStay in your vehicle.\n1 car at a time will be unloaded\, so please wait in line patiently.\n\nDrop-off Event Disposal Fees: \n\nPrinters\, faxes and copiers – $5/item\nCRT monitors – $10/item\nTelevisions – $25/item\n\nFree to Recycle:  \n\nAll types of cables\nDesktops\nServers\nKeyboards\nSpeakers\nUPS- Power Supplies\nTelephones\nRouters\nSwitches\nCell Phones\nRadios\nTablets\nGame Consoles\nCameras\nSatellite Dishes\nSecurity Systems\nCable Boxes\nChristmas Lights\nProjectors\nMicrowaves\nMixers\nToasters\n\nAll other electronic items are free of charge.  For a detailed list on the items\, we accept. \nAdditionally\, Mobile Shred It a NAID AAA certified company will be there for paper shredding.  All paper is shredded on-site at the event. We do ask to please remove large binder clips\, plastic\, binders\, coil binding and magnets. Once shredded\, all paper is recycled\, adhering to our zero-landfill initiative for sustainability. \nShredding/Disposal Fee: \n\nStandard bankers’ box (15″ x 12″ x 10″) – $10/box
URL:https://unitedelectronicrecycling.com/community-event/electronic-recycling-near-plano-tx-4-12-25/
LOCATION:St Andrew Methodist\, 5801 W Plano Pkwy\, Plano\, TX\, 75093\, United States
CATEGORIES:Electronic Recycling Events
END:VEVENT
BEGIN:VEVENT
DTSTART;TZID=America/Chicago:20250412T090000
DTEND;TZID=America/Chicago:20250412T120000
DTSTAMP:20260421T073208
CREATED:20250225T151847Z
LAST-MODIFIED:20250312T142558Z
UID:14760-1744448400-1744459200@unitedelectronicrecycling.com
SUMMARY:Private HOA event for Artesia residents
DESCRIPTION:Electronics Accepted:\n\nAll types of cables/wires\nTelevisions\nCRT Monitors\nDesktops\nLaptops\nServers\nKeyboards\nSpeakers\nUPS- Power Supplies\nTelephones\nRouters\nSwitches\nCell Phones\nRadios\nTablets\nGame Consoles\nCameras\nSatellite Dishes\nSecurity Systems\nCable Boxes\nChristmas Lights\nProjectors\nMicrowaves\nMixers\nToasters\nAir Fryers\nAir Purifiers/Diffusers\nRice cookers\nSmoke Detector\nVHS Tapes\nPrinters/ Copiers/ Fax machines\n\nAdditionally our shredding company Mobile Shred It will be there for free paper shredding. All paper is shredded on-site at the event. Once shredded\, all paper is recycled\, adhering to our zero-landfill initiative for sustainability. \nAccepting paper with:  \n\nStaples\nPaper clips\nRubber bands\nSmall binder clips\nFile folders\n\nNot accepting paper with:  \n\nLarge binder clips\nBinders\nCoil Binding\nHanging file folders\nPlastic Bags\nMagnets\nHard cover books\n\nPre-shredded paper is not accepted at this event
URL:https://unitedelectronicrecycling.com/community-event/private-hoa-event-for-residents-of-prosper-tx/
LOCATION:1550 Artesia Blvd Prosper\, TX\, 1550 Artesia Blvd\, Prosper\, TX\, 75078\, United States
CATEGORIES:Electronic Recycling Events
END:VEVENT
BEGIN:VEVENT
DTSTART;TZID=America/Chicago:20250412T100000
DTEND;TZID=America/Chicago:20250412T130000
DTSTAMP:20260421T073208
CREATED:20250403T145850Z
LAST-MODIFIED:20250403T145850Z
UID:14872-1744452000-1744462800@unitedelectronicrecycling.com
SUMMARY:Electronic Recycling Event Near Flower Mound\, TX
DESCRIPTION:In partnership with Keep Flower Mound Beautiful\, we are having a Free Electronic Recycling Event. This event is for Flower Mound residents only\, and proof of residency is required. The event will take place in the parking lot of Flower Mound High School\, located at 3411 Peters Colony Rd.\, Flower Mound\, TX 75022. \nItems accepted for recycling:  \n\nAll types of cables/wires\nTelevisions\nDesktops\nLaptops\nServers\nHard drives\nSmoke detector alarms\nVHS tapes\nKeyboards\nSpeakers\nUPS- Power Supplies\nTelephones\nRouters\nSwitches\nCell Phones\nRadios\nTablets\nGame Consoles\nCameras\nSatellite Dishes\nSecurity Systems\nCable Boxes\nChristmas Lights\nProjectors\nMicrowaves\nMixers\nToasters\nPrinters/ Copiers/ Fax machines
URL:https://unitedelectronicrecycling.com/community-event/flower-mound-electronic-recycling-4-12-25/
LOCATION:Flower Mound Highschool\, 3411 Peters Colony Rd\, Flower Mound\, TX\, 75022\, United States
CATEGORIES:Electronic Recycling Events
END:VEVENT
BEGIN:VEVENT
DTSTART;TZID=America/Chicago:20250419T090000
DTEND;TZID=America/Chicago:20250419T110000
DTSTAMP:20260421T073208
CREATED:20250114T172401Z
LAST-MODIFIED:20250114T172401Z
UID:14279-1745053200-1745060400@unitedelectronicrecycling.com
SUMMARY:Electronic Recycling & Paper Shredding Event Near Plano\, TX
DESCRIPTION:This Electronic Recycling Event is in partnership with the City of Plano\, everyone is welcomed!  Participants drive through the line to recycle their unwanted\, outdated and broken electronics. The event will take place in the parking lot of Christ United Methodist Church\, located at 3101 Coit Rd\, Plano\, TX\, 75075. Only cash or check payments are accepted. Only cash or check payments are accepted. All collected electronic waste is processed through R2V3 standards. \nPlease follow these rules when you bring items to Community Recycling sites: \n \n\nStay in your vehicle.\n1 car at a time will be unloaded\, so please wait in line patiently.\n\nDrop-off Event Disposal Fees: \n\nPrinters\, faxes and copiers – $5/item\nCRT monitors – $10/item\nTelevisions – $25/item\n\nFree to Recycle:  \n\nAll types of cables\nDesktops\nServers\nKeyboards\nSpeakers\nUPS- Power Supplies\nTelephones\nRouters\nSwitches\nCell Phones\nRadios\nTablets\nGame Consoles\nCameras\nSatellite Dishes\nSecurity Systems\nCable Boxes\nChristmas Lights\nProjectors\nMicrowaves\nMixers\nToasters\n\nAll other electronic items are free of charge. For a detailed list on the items\, we accept. \nAdditionally\, our paper shredding division Mobile Shred It a NAID AAA certified company will be there.  All paper is shredded on-site at the event. We do ask to please remove large binder clips\, plastic\, binders\, coil binding and magnets. Once shredded\, all paper is recycled\, adhering to our zero-landfill initiative for sustainability. \nShredding/Disposal Fee: \n\nStandard bankers’ box (15″ x 12″ x 10″) – $10/box
URL:https://unitedelectronicrecycling.com/community-event/plano-electronic-recycling-event-4-19-25/
LOCATION:Christ United Methodist\, 3101 Coit Rd\, Plano\, TX\, 75075\, United States
CATEGORIES:Electronic Recycling Events
END:VEVENT
BEGIN:VEVENT
DTSTART;TZID=America/Chicago:20250426T060000
DTEND;TZID=America/Chicago:20250426T140000
DTSTAMP:20260421T073208
CREATED:20250114T174338Z
LAST-MODIFIED:20250116T141426Z
UID:14282-1745647200-1745676000@unitedelectronicrecycling.com
SUMMARY:Electronic Recycling Event Near College Station\, TX
DESCRIPTION:In partnership with the City of College Station & Twin Oaks Landfill\, we are having a Electronic Recycling Event. This event is free for residents of the Brazos Valley region (Grimes\, Leon\, Madison\, Washington\, Brazos\, Robertson\, and Burleson Counties). The event will take place in TAMU University Service Building \, located at 3380 University Dr E\, College Station\, TX 77845. Please enter HWY 30/ Harvey Rd\, no entry allowed from University Dr. East/Hwy 60. \nElectronics Accepted:  \n\nAll types of cables/wires\nDesktops\nLaptops\nBatteries\nPrinter/Copiers/Fax machines\nTV\nServers\nKeyboards\nSpeakers\nUPS- Power Supplies\nTelephones\nRouters\nSwitches\nCell Phones\nRadios\nTablets\nGame Consoles\nCameras\nSatellite Dishes\nSecurity Systems\nCable Boxes\nChristmas Lights\nProjectors\nMicrowaves\nMixers\nToasters\nAir Fryers\nAir Purifiers/Diffusers\nRice cookers\nSmoke Detector\nVHS Tapes\nLight bulbs
URL:https://unitedelectronicrecycling.com/community-event/college-station-electronic-recycling-event-4-26-25/
LOCATION:Navarro County Expo Center\, 4021 W State Highway 22\, Corsicana\, TX\, 75110\, United States
CATEGORIES:Electronic Recycling Events
END:VEVENT
BEGIN:VEVENT
DTSTART;TZID=America/Chicago:20250426T080000
DTEND;TZID=America/Chicago:20250426T120000
DTSTAMP:20260421T073208
CREATED:20250320T164352Z
LAST-MODIFIED:20250320T164429Z
UID:14818-1745654400-1745668800@unitedelectronicrecycling.com
SUMMARY:Free Electronic Recycling Event for Pilot Point residents
DESCRIPTION:Electronics Accepted:\n\nAll types of cables/wires\nTelevisions\nCRT Monitors\nDesktops\nLaptops\nServers\nKeyboards\nSpeakers\nUPS- Power Supplies\nTelephones\nRouters\nSwitches\nCell Phones\nRadios\nTablets\nGame Consoles\nCameras\nSatellite Dishes\nSecurity Systems\nCable Boxes\nChristmas Lights\nProjectors\nMicrowaves\nMixers\nToasters\nAir Fryers\nAir Purifiers/Diffusers\nRice cookers\nSmoke Detector\nVHS Tapes\nPrinters/ Copiers/ Fax machines
URL:https://unitedelectronicrecycling.com/community-event/free-electronic-recycling-event-for-pilot-point-residents/
LOCATION:Waste Water Facility\, 1400 North St. James Rd\, Pilot Point\, TX\, 76258\, United States
CATEGORIES:Electronic Recycling Events
END:VEVENT
BEGIN:VEVENT
DTSTART;TZID=America/Chicago:20250426T090000
DTEND;TZID=America/Chicago:20250426T120000
DTSTAMP:20260421T073208
CREATED:20250224T183543Z
LAST-MODIFIED:20250224T183543Z
UID:14739-1745658000-1745668800@unitedelectronicrecycling.com
SUMMARY:Electronic Recycling Event Near Purcell\, Ok
DESCRIPTION:In partnership with the City of Purcell\, we are having a Electronic Recycling Event. This event is for Purcell residents only\, and proof of residency is required. The event will take place in the parking lot of former location of Purcell Police Department located at 1515 N Green Ave\, Purcell\, OK\, 73080. \nItems accepted for recycling:  \n\nAll types of cables/wires\nDesktops\nTelevisions\nLaptops\nServers\nPrinters\nHard drives\nSmoke detector alarms\nVHS tapes\nKeyboards\nSpeakers\nUPS- Power Supplies\nTelephones\nRouters\nSwitches\nCell Phones\nRadios\nTablets\nGame Consoles\nCameras\nSatellite Dishes\nSecurity Systems\nCable Boxes\nChristmas Lights\nProjectors\nMicrowaves\nMixers\nToasters\n\nFor further information\, please visit
URL:https://unitedelectronicrecycling.com/community-event/electronic-recycling-event-near-purcell-ok-4-26-25/
LOCATION:Purcell Police Department\, 1515 N Green Ave\, Purcell\, OK\, 73080\, United States
CATEGORIES:Electronic Recycling Events
END:VEVENT
BEGIN:VEVENT
DTSTART;TZID=America/Chicago:20250426T090000
DTEND;TZID=America/Chicago:20250426T120000
DTSTAMP:20260421T073208
CREATED:20250225T154800Z
LAST-MODIFIED:20250312T202755Z
UID:14764-1745658000-1745668800@unitedelectronicrecycling.com
SUMMARY:Private HOA event for Arrowbrooke Residents
DESCRIPTION:Electronics Accepted:\n\nAll types of cables/wires\nTelevisions\nCRT Monitors\nDesktops\nLaptops\nServers\nKeyboards\nSpeakers\nUPS- Power Supplies\nTelephones\nRouters\nSwitches\nCell Phones\nRadios\nTablets\nGame Consoles\nCameras\nSatellite Dishes\nSecurity Systems\nCable Boxes\nChristmas Lights\nProjectors\nMicrowaves\nMixers\nToasters\nAir Fryers\nAir Purifiers/Diffusers\nRice cookers\nSmoke Detector\nVHS Tapes\nPrinters/ Copiers/ Fax machines\n\nAdditionally our shredding company Mobile Shred It will be there for free paper shredding. All paper is shredded on-site at the event. Once shredded\, all paper is recycled\, adhering to our zero-landfill initiative for sustainability. \nAccepting paper with:  \n\nStaples\nPaper clips\nRubber bands\nSmall binder clips\nFile folders\n\nNot accepting paper with:  \n\nLarge binder clips\nBinders\nCoil Binding\nHanging file folders\nPlastic Bags\nMagnets\nHard cover books\n\nPre-shredded paper is not accepted at this event
URL:https://unitedelectronicrecycling.com/community-event/private-hoa-event-for-residents-of-aubrey-tx-2/
LOCATION:1601 Arrowbrooke Ave Aubrey\, TX\, 1601 Arrowbrooke Ave\, Aubrey\, TX\, 76227\, United States
CATEGORIES:Electronic Recycling Events
END:VEVENT
BEGIN:VEVENT
DTSTART;TZID=America/Chicago:20250426T100000
DTEND;TZID=America/Chicago:20250426T140000
DTSTAMP:20260421T073208
CREATED:20250114T174952Z
LAST-MODIFIED:20250423T180716Z
UID:14284-1745661600-1745676000@unitedelectronicrecycling.com
SUMMARY:Electronic Recycling & Paper Shredding Event Near Irving\, TX
DESCRIPTION:Important Notice: This Event is cancelled due to weather forecast.\nIn partnership with the City of Irving\, we are having a Electronic Recycling Event. This event is for Irving residents only\, and proof of residency is required. The event will take place in the parking lot of Las Colinas Service Center located at 5964 Riverside Drive Irving\, Tx 75039. \nElectronics Accepted:  \n\nAll types of cables/wires\nDesktops\nLaptops\nPrinter/Copiers/Fax machines\nTV\nServers\nKeyboards\nSpeakers\nUPS- Power Supplies\nTelephones\nRouters\nSwitches\nCell Phones\nRadios\nTablets\nGame Consoles\nCameras\nSatellite Dishes\nSecurity Systems\nCable Boxes\nChristmas Lights\nProjectors\nMicrowaves\nMixers\nToasters\nAir Fryers\nAir Purifiers/Diffusers\nRice cookers\nSmoke Detector\nVHS Tapes\nPrinters/ Copiers/ Fax machines\n\nAdditionally our shredding company Mobile Shred It will be there for free paper shredding. All paper is shredded on-site at the event. Once shredded\, all paper is recycled\, adhering to our zero-landfill initiative for sustainability. \nLimit of 2 boxes \nAccepting paper with:  \n\nStaples\nPaper clips\nRubber bands\nSmall binder clips\nFile folders\n\nNot accepting paper with:  \n\nLarge binder clips\nBinders\nCoil Binding\nHanging file folders\nPlastic Bags\nMagnets\nHard cover books\n\nPre-shredded paper is not accepted at this event
URL:https://unitedelectronicrecycling.com/community-event/irving-electronic-recycling-event-4-26-25/
LOCATION:Las Colinas Service Center\, 5964 Riverside Dr\, Irving\, Texas\, 75039\, United States
CATEGORIES:Electronic Recycling Events
END:VEVENT
END:VCALENDAR