BEGIN:VCALENDAR
VERSION:2.0
PRODID:-//United Electronic Recycling - ECPv6.15.20//NONSGML v1.0//EN
CALSCALE:GREGORIAN
METHOD:PUBLISH
X-ORIGINAL-URL:https://unitedelectronicrecycling.com
X-WR-CALDESC:Events for United Electronic Recycling
REFRESH-INTERVAL;VALUE=DURATION:PT1H
X-Robots-Tag:noindex
X-PUBLISHED-TTL:PT1H
BEGIN:VTIMEZONE
TZID:America/Chicago
BEGIN:DAYLIGHT
TZOFFSETFROM:-0600
TZOFFSETTO:-0500
TZNAME:CDT
DTSTART:20230312T080000
END:DAYLIGHT
BEGIN:STANDARD
TZOFFSETFROM:-0500
TZOFFSETTO:-0600
TZNAME:CST
DTSTART:20231105T070000
END:STANDARD
BEGIN:DAYLIGHT
TZOFFSETFROM:-0600
TZOFFSETTO:-0500
TZNAME:CDT
DTSTART:20240310T080000
END:DAYLIGHT
BEGIN:STANDARD
TZOFFSETFROM:-0500
TZOFFSETTO:-0600
TZNAME:CST
DTSTART:20241103T070000
END:STANDARD
BEGIN:DAYLIGHT
TZOFFSETFROM:-0600
TZOFFSETTO:-0500
TZNAME:CDT
DTSTART:20250309T080000
END:DAYLIGHT
BEGIN:STANDARD
TZOFFSETFROM:-0500
TZOFFSETTO:-0600
TZNAME:CST
DTSTART:20251102T070000
END:STANDARD
END:VTIMEZONE
BEGIN:VEVENT
DTSTART;TZID=America/Chicago:20241102T090000
DTEND;TZID=America/Chicago:20241102T110000
DTSTAMP:20260421T145122
CREATED:20240821T175705Z
LAST-MODIFIED:20240821T175714Z
UID:13897-1730538000-1730545200@unitedelectronicrecycling.com
SUMMARY:Electronic Recycling & Paper Shredding Event Near Euless\, TX
DESCRIPTION:In partnership with the City of Euless\, we are having a free Electronic Recycling & Paper Shredding Event. This event is for Euless residents only\, and proof of residency is required. The event will take place in 201 N. Ector Dr. Euless\, Texas 76039. \nElectronics Accepted \n\nComputers\nLaptops & Notebooks\nTelevisions\nFlat Screen Monitors\nPrinters/Copiers/Fax Machines\nKeyboards & Mice\nCell & Office Phones\nPower Supplies\nChargers\nBatteries & UPS\nVHS Tapes\nCables & Wire\nNetworking Equipment\nServers & Racks\nCD’s\, DVD’s\nDigital Cameras\nSmall Electronic Devices\nSmoke Detector Alarms\nVideo Game Systems\nChristmas Lights\nSmall Kitchen Appliances (microwaves\, toaster\, blender)\n\nFor further information\, please visit \nAdditionally our shredding company Mobile Shred It will be there for free paper shredding. All paper is shredded on-site at the event. Once shredded\, all paper is recycled\, adhering to our zero-landfill initiative for sustainability. \n\nLimit of 5 boxes per vehicle \n\nPre-shredded paper is not accepted at this event
URL:https://unitedelectronicrecycling.com/community-event/electronic-recycling-euless-11-2-24/
LOCATION:Euless City Hall\, 201 N. Ector Dr.\, Euless\, TX\, 76039\, United States
CATEGORIES:Electronic Recycling Events
END:VEVENT
BEGIN:VEVENT
DTSTART;TZID=America/Chicago:20241102T090000
DTEND;TZID=America/Chicago:20241102T120000
DTSTAMP:20260421T145122
CREATED:20240821T175142Z
LAST-MODIFIED:20240821T175142Z
UID:13893-1730538000-1730548800@unitedelectronicrecycling.com
SUMMARY:Electronic Recycling Event Near Plano\, TX
DESCRIPTION:This Electronic Recycling Event is in partnership with the City of Plano\, everyone is welcomed!  Participants drive through the line to recycle their unwanted\, outdated and broken electronics. The event will take place in the parking lot of First United Methodist Church\, located at 3160 E Spring Creek Pkwy\, Plano\, TX\, 75074.Only cash or check payments are accepted. All collected electronic waste is processed through R2V3 standards. \nPlease follow these rules when you bring items to Community Recycling sites: \n \n\nStay in your vehicle.\n1 car at a time will be unloaded\, so please wait in line patiently.\n\nDrop-off Event Disposal Fees: \n\nPrinters\, faxes and copiers – $5/item\nCRT monitors – $10/item\nTelevisions – $25/item\n\nFree to Recycle:  \n\nAll types of cables/wires\nDesktops\nLaptops\nServers\nKeyboards\nSpeakers\nUPS- Power Supplies\nTelephones\nRouters\nSwitches\nCell Phones\nRadios\nTablets\nGame Consoles\nCameras\nSatellite Dishes\nSecurity Systems\nCable Boxes\nChristmas Lights\nProjectors\nMicrowaves\nMixers\nToasters\nAir Fryers\nAir Purifiers/Diffusers\nRice cookers\nSmoke Detector\nVHS Tapes\n\nAll other electronic items are free of charge. For a detailed list on the items\, we accept.
URL:https://unitedelectronicrecycling.com/community-event/electronic-recycling-near-plano-tx-11-2-24/
LOCATION:First United Methodist\, 3160 E Spring Creek Pkwy\, Plano\, Texas\, 75074
CATEGORIES:Electronic Recycling Events
END:VEVENT
BEGIN:VEVENT
DTSTART;TZID=America/Chicago:20241109T080000
DTEND;TZID=America/Chicago:20241109T120000
DTSTAMP:20260421T145122
CREATED:20240912T200125Z
LAST-MODIFIED:20240912T200125Z
UID:13980-1731139200-1731153600@unitedelectronicrecycling.com
SUMMARY:Electronic Recycling Event Near Moore\, OK
DESCRIPTION:In partnership with the City of Moore\, we are having a Free Electronic Recycling Event. The event will take place in the parking lot of Moore Recycle Center\, located at 220 N Telephone Rd.\, Moore\, OK\, 73160. All collected electronic waste is processed through R2V3 standards. \nElectronics Accepted \n\nComputers\nLaptops & Notebooks\nTelevisions\nFlat Screen Monitors\nPrinters/Copiers/Fax Machines\nKeyboards & Mice\nCell & Office Phones\nPower Supplies\nChargers\nBatteries & UPS\nVHS Tapes\nCables & Wire\nNetworking Equipment\nServers & Racks\nCD’s\, DVD’s\nDigital Cameras\nSmall Electronic Devices\nSmoke Detector Alarms\nVideo Game Systems\nChristmas Lights\nSmall Kitchen Appliances (microwaves\, toaster\, blender)
URL:https://unitedelectronicrecycling.com/community-event/electronic-recycling-event-near-moore-11-9-24/
LOCATION:Moore Recycle Center\, 220 N Telephone Rd.\, Moore\, OK\, 73160\, United States
CATEGORIES:Electronic Recycling Events
END:VEVENT
BEGIN:VEVENT
DTSTART;TZID=America/Chicago:20241109T083000
DTEND;TZID=America/Chicago:20241109T120000
DTSTAMP:20260421T145122
CREATED:20240821T183059Z
LAST-MODIFIED:20240821T183059Z
UID:13905-1731141000-1731153600@unitedelectronicrecycling.com
SUMMARY:City of Plano Texas Recycles Day
DESCRIPTION:In association with Texas Recycles Day\, the city of Plano and Live Green in Plano is hosting a electronic recycling event. This event is for Plano residents only\, and proof of residency is required. The event will take place in the Chase Oaks Church parking lot located at 281 Legacy Dr. (Enter from the Chase Oaks Blvd.). \n\nStay in your vehicle.\n1 car at a time will be unloaded\, so please wait in line patiently.\n\nDrop-off Event Disposal Fees: \n\nPrinters\, faxes and copiers – $5/item\nCRT monitors – $10/item\nTelevisions – $25/item\n\nFree to Recycle:  \n\nAll types of cables/wires\nDesktops\nLaptops\nServers\nKeyboards\nSpeakers\nUPS- Power Supplies\nTelephones\nRouters\nSwitches\nCell Phones\nRadios\nTablets\nGame Consoles\nPaper Shredders\nCameras\nSatellite Dishes\nSecurity Systems\nCable Boxes\nChristmas Lights\nProjectors\nBlenders\nMicrowaves\nMixers\nToasters\n\nAdditionally our shredding company Mobile Shred It will be there for free paper shredding. All paper is shredded on-site at the event. Once shredded\, all paper is recycled\, adhering to our zero-landfill initiative for sustainability. \n\nLimit of two boxes per resident\n\nAccepting paper with:  \n\nStaples\nPaper clips\nRubber bands\nSmall binder clips\nFile folders\n\nNot accepting paper with:  \n\nLarge binder clips\nBinders\nCoil Binding\nHanging file folders\nPlastic Bags\nMagnets\nHard cover books\n\nPre-shredded paper is not accepted at this event
URL:https://unitedelectronicrecycling.com/community-event/texas-recycles-day-2024/
LOCATION:Chase Oaks Church\, 281 Legacy Drive\, Plano\, TX\, 75023\, United States
CATEGORIES:Electronic Recycling Events
END:VEVENT
BEGIN:VEVENT
DTSTART;TZID=America/Chicago:20241109T090000
DTEND;TZID=America/Chicago:20241109T110000
DTSTAMP:20260421T145122
CREATED:20240821T181409Z
LAST-MODIFIED:20240821T181409Z
UID:13901-1731142800-1731150000@unitedelectronicrecycling.com
SUMMARY:Electronic Recycling & Paper Shredding Event Near Plano\, TX
DESCRIPTION:This Electronic Recycling Event is in partnership with the City of Plano\, everyone is welcomed!  Participants drive through the line to recycle their unwanted\, outdated and broken electronics. The event will take place in the parking lot of St Andrew Methodist Event Church\, located at 5801 W Plano Pkwy\, Plano\, TX\, 75093. Only cash or check payments are accepted. All collected electronic waste is processed through R2V3 standards. \nPlease follow these rules when you bring items to Community Recycling sites: \n \n\nStay in your vehicle.\n1 car at a time will be unloaded\, so please wait in line patiently.\n\nDrop-off Event Disposal Fees: \n\nPrinters\, faxes and copiers – $5/item\nCRT monitors – $10/item\nTelevisions – $25/item\n\nFree to Recycle:  \n\nAll types of cables\nDesktops\nServers\nKeyboards\nSpeakers\nUPS- Power Supplies\nTelephones\nRouters\nSwitches\nCell Phones\nRadios\nTablets\nGame Consoles\nCameras\nSatellite Dishes\nSecurity Systems\nCable Boxes\nChristmas Lights\nProjectors\nMicrowaves\nMixers\nToasters\n\nAll other electronic items are free of charge. For a detailed list on the items\, we accept. \nAdditionally\, Mobile Shred It a NAID AAA certified company will be there for paper shredding.  All paper is shredded on-site at the event. We do ask to please remove large binder clips\, plastic\, binders\, coil binding and magnets. Once shredded\, all paper is recycled\, adhering to our zero-landfill initiative for sustainability. \nShredding/Disposal Fee: \n\nStandard bankers’ box (15″ x 12″ x 10″) – $10/box
URL:https://unitedelectronicrecycling.com/community-event/electronic-recycling-near-plano-tx-11-9-24/
LOCATION:St Andrew Methodist\, 5801 W Plano Pkwy\, Plano\, TX\, 75093\, United States
CATEGORIES:Electronic Recycling Events
END:VEVENT
BEGIN:VEVENT
DTSTART;TZID=America/Chicago:20241109T090000
DTEND;TZID=America/Chicago:20241109T120000
DTSTAMP:20260421T145122
CREATED:20240911T175503Z
LAST-MODIFIED:20240911T175901Z
UID:13976-1731142800-1731153600@unitedelectronicrecycling.com
SUMMARY:Electronic Recycling Event Near Norman\, OK
DESCRIPTION:In partnership with the City of Norman we are having a Free Electronic Recycling Event. The event will take place in the parking lot of southwest entrance of Reaves Park\, located at 2501 Jenkins Ave\, Norman\, OK\, 73072. All collected electronic waste is processed through R2V3 standards. \nElectronics Accepted \n\nComputers\nLaptops & Notebooks\nTelevisions\nFlat Screen Monitors\nPrinters/Copiers/Fax Machines\nKeyboards & Mice\nCell & Office Phones\nPower Supplies\nChargers\nBatteries & UPS\nVHS Tapes\nCables & Wire\nNetworking Equipment\nServers & Racks\nCD’s\, DVD’s\nDigital Cameras\nSmall Electronic Devices\nSmoke Detector Alarms\nVideo Game Systems\nChristmas Lights\nSmall Kitchen Appliances (microwaves\, toaster\, blender)
URL:https://unitedelectronicrecycling.com/community-event/electronic-recycling-event-near-norman-ok-11-9-24/
LOCATION:Reaves Park\, 2501 Jenkins Ave\, Norman\, OK\, 73072\, United States
CATEGORIES:Electronic Recycling Events
END:VEVENT
BEGIN:VEVENT
DTSTART;TZID=America/Chicago:20241116T090000
DTEND;TZID=America/Chicago:20241116T110000
DTSTAMP:20260421T145122
CREATED:20240821T182131Z
LAST-MODIFIED:20240821T182131Z
UID:13903-1731747600-1731754800@unitedelectronicrecycling.com
SUMMARY:Electronic Recycling & Paper Shredding Event Near Plano\, TX
DESCRIPTION:This Electronic Recycling Event is in partnership with the City of Plano\, everyone is welcomed!  Participants drive through the line to recycle their unwanted\, outdated and broken electronics. The event will take place in the parking lot of Christ United Methodist Church\, located at 3101 Coit Rd\, Plano\, TX\, 75075. Only cash or check payments are accepted. Only cash or check payments are accepted. All collected electronic waste is processed through R2V3 standards. \nPlease follow these rules when you bring items to Community Recycling sites: \n \n\nStay in your vehicle.\n1 car at a time will be unloaded\, so please wait in line patiently.\n\nDrop-off Event Disposal Fees: \n\nPrinters\, faxes and copiers – $5/item\nCRT monitors – $10/item\nTelevisions – $25/item\n\nFree to Recycle:  \n\nAll types of cables\nDesktops\nServers\nKeyboards\nSpeakers\nUPS- Power Supplies\nTelephones\nRouters\nSwitches\nCell Phones\nRadios\nTablets\nGame Consoles\nCameras\nSatellite Dishes\nSecurity Systems\nCable Boxes\nChristmas Lights\nProjectors\nMicrowaves\nMixers\nToasters\n\nAll other electronic items are free of charge. For a detailed list on the items\, we accept. \nAdditionally\, our paper shredding division Mobile Shred It a NAID AAA certified company will be there.  All paper is shredded on-site at the event. We do ask to please remove large binder clips\, plastic\, binders\, coil binding and magnets. Once shredded\, all paper is recycled\, adhering to our zero-landfill initiative for sustainability. \nShredding/Disposal Fee: \n\nStandard bankers’ box (15″ x 12″ x 10″) – $10/
URL:https://unitedelectronicrecycling.com/community-event/plano-electronic-recycling-event-11-16-24/
LOCATION:Christ United Methodist\, 3101 Coit Rd\, Plano\, TX\, 75075\, United States
CATEGORIES:Electronic Recycling Events
END:VEVENT
BEGIN:VEVENT
DTSTART;TZID=America/Chicago:20241116T100000
DTEND;TZID=America/Chicago:20241116T140000
DTSTAMP:20260421T145122
CREATED:20240821T180558Z
LAST-MODIFIED:20241029T180734Z
UID:13899-1731751200-1731765600@unitedelectronicrecycling.com
SUMMARY:Electronic Recycling & Paper Shredding Event Near Irving\, TX
DESCRIPTION:Due to inclement weather\, this event has been rescheduled from November 2 to November 16. \n\nIn partnership with the City of Irving\, we are having a Electronic Recycling Event. This event is for Irving residents only\, and proof of residency is required. The event will take place in the parking lot of Las Colinas Service Center located at 5964 Riverside Drive Irving\, Tx 75039. \nDrop-off Event Disposal Fees: \n\nPrinters\, faxes and copiers – $5/item\nCRT monitors – $10/item\nTelevisions – $25/item\n\nFree to Recycle:  \n\nAll types of cables/wires\nDesktops\nLaptops\nServers\nKeyboards\nSpeakers\nUPS- Power Supplies\nTelephones\nRouters\nSwitches\nCell Phones\nRadios\nTablets\nGame Consoles\nCameras\nSatellite Dishes\nSecurity Systems\nCable Boxes\nChristmas Lights\nProjectors\nMicrowaves\nMixers\nToasters\nAir Fryers\nAir Purifiers/Diffusers\nRice cookers\nSmoke Detector\nVHS Tapes\nPrinters/ Copiers/ Fax machines\n\nAdditionally our shredding company Mobile Shred It will be there for free paper shredding. All paper is shredded on-site at the event. Once shredded\, all paper is recycled\, adhering to our zero-landfill initiative for sustainability. \nLimit of 2 boxes \n \nAccepting paper with:  \n\nStaples\nPaper clips\nRubber bands\nSmall binder clips\nFile folders\n\nNot accepting paper with:  \n\nLarge binder clips\nBinders\nCoil Binding\nHanging file folders\nPlastic Bags\nMagnets\nHard cover books\n\nPre-shredded paper is not accepted at this event
URL:https://unitedelectronicrecycling.com/community-event/electronic-recycling-near-irving-tx-11-16-24/
LOCATION:Las Colinas Service Center\, 5964 Riverside Dr\, Irving\, Texas\, 75039\, United States
CATEGORIES:Electronic Recycling Events
END:VEVENT
END:VCALENDAR