BEGIN:VCALENDAR
VERSION:2.0
PRODID:-//United Electronic Recycling - ECPv6.15.20//NONSGML v1.0//EN
CALSCALE:GREGORIAN
METHOD:PUBLISH
X-ORIGINAL-URL:https://unitedelectronicrecycling.com
X-WR-CALDESC:Events for United Electronic Recycling
REFRESH-INTERVAL;VALUE=DURATION:PT1H
X-Robots-Tag:noindex
X-PUBLISHED-TTL:PT1H
BEGIN:VTIMEZONE
TZID:America/Chicago
BEGIN:DAYLIGHT
TZOFFSETFROM:-0600
TZOFFSETTO:-0500
TZNAME:CDT
DTSTART:20230312T080000
END:DAYLIGHT
BEGIN:STANDARD
TZOFFSETFROM:-0500
TZOFFSETTO:-0600
TZNAME:CST
DTSTART:20231105T070000
END:STANDARD
BEGIN:DAYLIGHT
TZOFFSETFROM:-0600
TZOFFSETTO:-0500
TZNAME:CDT
DTSTART:20240310T080000
END:DAYLIGHT
BEGIN:STANDARD
TZOFFSETFROM:-0500
TZOFFSETTO:-0600
TZNAME:CST
DTSTART:20241103T070000
END:STANDARD
BEGIN:DAYLIGHT
TZOFFSETFROM:-0600
TZOFFSETTO:-0500
TZNAME:CDT
DTSTART:20250309T080000
END:DAYLIGHT
BEGIN:STANDARD
TZOFFSETFROM:-0500
TZOFFSETTO:-0600
TZNAME:CST
DTSTART:20251102T070000
END:STANDARD
END:VTIMEZONE
BEGIN:VEVENT
DTSTART;TZID=America/Chicago:20240706T090000
DTEND;TZID=America/Chicago:20240706T120000
DTSTAMP:20260421T205354
CREATED:20240612T131955Z
LAST-MODIFIED:20240612T132018Z
UID:13730-1720256400-1720267200@unitedelectronicrecycling.com
SUMMARY:Electronic Recycling Event Near Plano\, TX
DESCRIPTION:This Electronic Recycling Event is in partnership with the City of Plano\, everyone is welcomed!  Participants drive through the line to recycle their unwanted\, outdated and broken electronics. The event will take place in the parking lot of First United Methodist Church\, located at 3160 E Spring Creek Pkwy\, Plano\, TX\, 75074.Only cash or check payments are accepted. All collected electronic waste is processed through R2V3 standards. \nPlease follow these rules when you bring items to Community Recycling sites: \n \n\nStay in your vehicle.\n1 car at a time will be unloaded\, so please wait in line patiently.\n\nDrop-off Event Disposal Fees: \n\nPrinters\, faxes and copiers – $5/item\nCRT monitors – $10/item\nTelevisions – $25/item\n\nFree to Recycle:  \n\nAll types of cables/wires\nDesktops\nLaptops\nServers\nKeyboards\nSpeakers\nUPS- Power Supplies\nTelephones\nRouters\nSwitches\nCell Phones\nRadios\nTablets\nGame Consoles\nCameras\nSatellite Dishes\nSecurity Systems\nCable Boxes\nChristmas Lights\nProjectors\nMicrowaves\nMixers\nToasters\nAir Fryers\nAir Purifiers/Diffusers\nRice cookers\nSmoke Detector\nVHS Tapes\n\nAll other electronic items are free of charge. For a detailed list on the items\, we accept. \n 
URL:https://unitedelectronicrecycling.com/community-event/electronic-recycling-near-plano-tx-7-6-24/
LOCATION:First United Methodist\, 3160 E Spring Creek Pkwy\, Plano\, Texas\, 75074
CATEGORIES:Electronic Recycling Events
END:VEVENT
BEGIN:VEVENT
DTSTART;TZID=America/Chicago:20240711T080000
DTEND;TZID=America/Chicago:20240711T163000
DTSTAMP:20260421T205354
CREATED:20240515T203040Z
LAST-MODIFIED:20241004T184949Z
UID:13622-1720684800-1720715400@unitedelectronicrecycling.com
SUMMARY:DFW Recycles Day-Electronic Recycling Event Near Coppell\, TX
DESCRIPTION:In appreciation of our customers\, we will be hosting a free electronic recycling event at our facility in Coppell. All DFW residents are welcome to bring their electronics for recycling. Normally\, we have electronic recycling fees for televisions\, CRT monitors\, printers\, copiers\, and fax machines; however\, on July 11th\, we will be waiving all fees. \nElectronics Accepted: \n\nTelevisions ( Limit of two per customer)\nPrinters/Copiers/Fax Machines\nCRT Monitors\nLCD & LED Monitors\nLaptops\nDVD’s/CD’s\ne-Readers\nVHS tapes\nVideo Players\nAll types of cables\nDesktops\nServers\nKeyboards\nSpeakers\nUPS- Power Supplies\nHouse & Office Phones\nRouters\nSwitches\nCell Phones\nRadios\nTablets\nGame Consoles (Xbox \, PlayStation..)\nCameras\nSatellite Dishes\nCables & Cords\nSecurity Systems\nCable Boxes\nChristmas Lights\nProjectors\nRechargeable Batteries\nMicrowaves\nMixers\nToasters\nInk & Toner Cartridges\n\nFor a detailed list on the items\, we accept. \nAdditionally\, our paper shredding division Mobile Shred It a NAID AAA certified company will be shredding paper for free. All paper is shredded on-site at the event. We do ask to please remove large binder clips\, plastic\, binders\, coil binding and magnets. Once shredded\, all paper is recycled\, adhering to our zero-landfill initiative for sustainability. \nPlease follow these rules when you bring your items (Limit of four banker boxes per customer): \n\nStay in your vehicle.\n1 car at a time will be unloaded\, so please wait in line patiently.
URL:https://unitedelectronicrecycling.com/community-event/dfw-recycles-day-electronic-recycling-event-near-coppell-tx/
LOCATION:United Electronic Recycling Facility\, 505 Airline Dr.\, Coppell\, TX\, 75019\, United States
CATEGORIES:Electronic Recycling Events
END:VEVENT
BEGIN:VEVENT
DTSTART;TZID=America/Chicago:20240713T090000
DTEND;TZID=America/Chicago:20240713T110000
DTSTAMP:20260421T205354
CREATED:20240612T132629Z
LAST-MODIFIED:20240612T132629Z
UID:13732-1720861200-1720868400@unitedelectronicrecycling.com
SUMMARY:Electronic Recycling & Paper Shredding Event Near Plano\, TX
DESCRIPTION:This Electronic Recycling Event is in partnership with the City of Plano\, everyone is welcomed!  Participants drive through the line to recycle their unwanted\, outdated and broken electronics. The event will take place in the parking lot of St Andrew Methodist Event Church\, located at 5801 W Plano Pkwy\, Plano\, TX\, 75093. Only cash or check payments are accepted. All collected electronic waste is processed through R2V3 standards. \nPlease follow these rules when you bring items to Community Recycling sites: \n \n\nStay in your vehicle.\n1 car at a time will be unloaded\, so please wait in line patiently.\n\nDrop-off Event Disposal Fees: \n\nPrinters\, faxes and copiers – $5/item\nCRT monitors – $10/item\nTelevisions – $25/item\n\nFree to Recycle:  \n\nAll types of cables\nDesktops\nServers\nKeyboards\nSpeakers\nUPS- Power Supplies\nTelephones\nRouters\nSwitches\nCell Phones\nRadios\nTablets\nGame Consoles\nCameras\nSatellite Dishes\nSecurity Systems\nCable Boxes\nChristmas Lights\nProjectors\nMicrowaves\nMixers\nToasters\n\nAll other electronic items are free of charge. For a detailed list on the items\, we accept. \nAdditionally\, Mobile Shred It a NAID AAA certified company will be there for paper shredding.  All paper is shredded on-site at the event. We do ask to please remove large binder clips\, plastic\, binders\, coil binding and magnets. Once shredded\, all paper is recycled\, adhering to our zero-landfill initiative for sustainability. \nShredding/Disposal Fee: \n\nStandard bankers’ box (15″ x 12″ x 10″) – $10/box
URL:https://unitedelectronicrecycling.com/community-event/electronic-recycling-near-plano-tx-7-13-24/
LOCATION:St Andrew Methodist\, 5801 W Plano Pkwy\, Plano\, TX\, 75093\, United States
CATEGORIES:Electronic Recycling Events
END:VEVENT
BEGIN:VEVENT
DTSTART;TZID=America/Chicago:20240720T090000
DTEND;TZID=America/Chicago:20240720T110000
DTSTAMP:20260421T205354
CREATED:20240612T133245Z
LAST-MODIFIED:20240612T133245Z
UID:13734-1721466000-1721473200@unitedelectronicrecycling.com
SUMMARY:Electronic Recycling & Paper Shredding Event Near Plano\, TX
DESCRIPTION:This Electronic Recycling Event is in partnership with the City of Plano\, everyone is welcomed!  Participants drive through the line to recycle their unwanted\, outdated and broken electronics. The event will take place in the parking lot of Christ United Methodist Church\, located at 3101 Coit Rd\, Plano\, TX\, 75075. Only cash or check payments are accepted. Only cash or check payments are accepted. All collected electronic waste is processed through R2V3 standards. \nPlease follow these rules when you bring items to Community Recycling sites: \n \n\nStay in your vehicle.\n1 car at a time will be unloaded\, so please wait in line patiently.\n\nDrop-off Event Disposal Fees: \n\nPrinters\, faxes and copiers – $5/item\nCRT monitors – $10/item\nTelevisions – $25/item\n\nFree to Recycle:  \n\nAll types of cables\nDesktops\nServers\nKeyboards\nSpeakers\nUPS- Power Supplies\nTelephones\nRouters\nSwitches\nCell Phones\nRadios\nTablets\nGame Consoles\nCameras\nSatellite Dishes\nSecurity Systems\nCable Boxes\nChristmas Lights\nProjectors\nMicrowaves\nMixers\nToasters\n\nAll other electronic items are free of charge. For a detailed list on the items\, we accept. \nAdditionally\, our paper shredding division Mobile Shred It a NAID AAA certified company will be there.  All paper is shredded on-site at the event. We do ask to please remove large binder clips\, plastic\, binders\, coil binding and magnets. Once shredded\, all paper is recycled\, adhering to our zero-landfill initiative for sustainability. \nShredding/Disposal Fee: \n\nStandard bankers’ box (15″ x 12″ x 10″) – $10
URL:https://unitedelectronicrecycling.com/community-event/plano-electronic-recycling-event-7-20-24/
LOCATION:Christ United Methodist\, 3101 Coit Rd\, Plano\, TX\, 75075\, United States
CATEGORIES:Electronic Recycling Events
END:VEVENT
BEGIN:VEVENT
DTSTART;TZID=America/Chicago:20240727T080000
DTEND;TZID=America/Chicago:20240727T120000
DTSTAMP:20260421T205354
CREATED:20240718T183204Z
LAST-MODIFIED:20240718T183843Z
UID:13802-1722067200-1722081600@unitedelectronicrecycling.com
SUMMARY:Electronic Recycling & Paper Shredding Event in Celina\, TX
DESCRIPTION:  \n \nIn partnership with the City of Celina\, we are having a Free Electronic Recycling Event. This event is for Celina residents only\, and proof of residency is required. The event will take place in the parking lot of the Public Works building\, located at 10165 Country Road 106 Celina\, TX 75009. \nItems accepted for recycling:  \n\nAll types of cables/wires\nTelevisions\nDesktops\nLaptops\nServers\nHard drives\nSmoke detector alarms\nVHS tapes\nKeyboards\nSpeakers\nUPS- Power Supplies\nTelephones\nRouters\nSwitches\nCell Phones\nRadios\nTablets\nGame Consoles\nCameras\nSatellite Dishes\nSecurity Systems\nCable Boxes\nChristmas Lights\nProjectors\nMicrowaves\nMixers\nToasters\nPrinters/ Copiers/ Fax machines\n\nAdditionally\, our shredding company Mobile Shred It will be there for free paper shredding. All paper is shredded on-site at the event. We do ask to please remove large binder clips\, plastic\, binders\, coil binding and magnets. Once shredded\, all paper is recycled\, adhering to our zero-landfill initiative for sustainability. \nPre-shredded paper is not accepted at this event
URL:https://unitedelectronicrecycling.com/community-event/celina-clean-sweep-2024/
LOCATION:Public Works Building\, 10165 Country Rd.\, Celina\, TX\, 75009\, United States
CATEGORIES:Electronic Recycling Events
END:VEVENT
END:VCALENDAR