BEGIN:VCALENDAR
VERSION:2.0
PRODID:-//United Electronic Recycling - ECPv6.15.20//NONSGML v1.0//EN
CALSCALE:GREGORIAN
METHOD:PUBLISH
X-WR-CALNAME:United Electronic Recycling
X-ORIGINAL-URL:https://unitedelectronicrecycling.com
X-WR-CALDESC:Events for United Electronic Recycling
REFRESH-INTERVAL;VALUE=DURATION:PT1H
X-Robots-Tag:noindex
X-PUBLISHED-TTL:PT1H
BEGIN:VTIMEZONE
TZID:America/Chicago
BEGIN:DAYLIGHT
TZOFFSETFROM:-0600
TZOFFSETTO:-0500
TZNAME:CDT
DTSTART:20220313T080000
END:DAYLIGHT
BEGIN:STANDARD
TZOFFSETFROM:-0500
TZOFFSETTO:-0600
TZNAME:CST
DTSTART:20221106T070000
END:STANDARD
BEGIN:DAYLIGHT
TZOFFSETFROM:-0600
TZOFFSETTO:-0500
TZNAME:CDT
DTSTART:20230312T080000
END:DAYLIGHT
BEGIN:STANDARD
TZOFFSETFROM:-0500
TZOFFSETTO:-0600
TZNAME:CST
DTSTART:20231105T070000
END:STANDARD
BEGIN:DAYLIGHT
TZOFFSETFROM:-0600
TZOFFSETTO:-0500
TZNAME:CDT
DTSTART:20240310T080000
END:DAYLIGHT
BEGIN:STANDARD
TZOFFSETFROM:-0500
TZOFFSETTO:-0600
TZNAME:CST
DTSTART:20241103T070000
END:STANDARD
END:VTIMEZONE
BEGIN:VEVENT
DTSTART;TZID=America/Chicago:20231007T090000
DTEND;TZID=America/Chicago:20231007T110000
DTSTAMP:20260420T114916
CREATED:20231003T143715Z
LAST-MODIFIED:20231003T143736Z
UID:12653-1696669200-1696676400@unitedelectronicrecycling.com
SUMMARY:Westlake Electronic Recycling & Paper Shredding Event
DESCRIPTION:In partnership with the Town of Westlake\, we are having a Electronic Recycling & Free Paper Shredding Event. This event is for Westlake residents only\, and proof of residency is required. The event will take place behind parking garage A located at 1400 Solana Blvd\, Westlake\, 76262. \n \n  \nDrop-off Event Disposal Fees: \nThe Town of Westlake will cover the first $25 in fees per household. \n\nCRT monitors – $10/item\nRefrigerator- $20/ please remove the Freon\nTelevisions – $25/item\nCertified Hard drive wipe:$20/item\n\nItems accepted for recycling:  \n\nAll types of cables/wires\nDesktops\nLaptops\nServers\nHard drives\nSmoke detector alarms\nVHS tapes\nKeyboards\nSpeakers\nUPS- Power Supplies\nTelephones\nRouters\nSwitches\nCell Phones\nRadios\nTablets\nGame Consoles\nCameras\nSatellite Dishes\nSecurity Systems\nCable Boxes\nChristmas Lights\nProjectors\nMicrowaves\nMixers\nToasters\nPrinters/ Copiers/ Fax machines\n\nAdditionally our shredding company Mobile Shred It will be there for free paper shredding. All paper is shredded on-site at the event. We do ask to please remove large binder clips\, hanging file folders\, plastic\, binders\, coil binding and magnets. Once shredded\, all paper is recycled\, adhering to our zero-landfill initiative for sustainability. \n\nLimit of four boxes per resident\n\nPre-shredded paper is not accepted at this event
URL:https://unitedelectronicrecycling.com/community-event/westlake-electronic-recycling-event-10-7/
LOCATION:1400 Solana Blvd Parking Lot\, behind Parking Garage A\, 1400 Solana Blvd\, Westlake\, Texas\, 76262\, United States
CATEGORIES:Electronic Recycling Events
END:VEVENT
BEGIN:VEVENT
DTSTART;TZID=America/Chicago:20231007T090000
DTEND;TZID=America/Chicago:20231007T120000
DTSTAMP:20260420T114916
CREATED:20230914T205931Z
LAST-MODIFIED:20230914T205944Z
UID:12520-1696669200-1696680000@unitedelectronicrecycling.com
SUMMARY:Plano Electronic Recycling Event
DESCRIPTION:This Electronic Recycling Event is in partnership with the City of Plano\, everyone is welcomed!  Participants drive through the line to recycle their unwanted\, outdated and broken electronics. The event will take place in the parking lot of First United Methodist Church\, located at 3160 E Spring Creek Pkwy\, Plano\, TX\, 75074.Only cash or check payments are accepted. \nPlease follow these rules when you bring items to Community Recycling sites: \n \n\nStay in your vehicle.\n1 car at a time will be unloaded\, so please wait in line patiently.\n\nDrop-off Event Disposal Fees: \n\nPrinters\, faxes and copiers – $5/item\nCRT monitors – $10/item\nTelevisions – $25/item\n\nFree to Recycle:  \n\nAll types of cables/wires\nDesktops\nLaptops\nServers\nKeyboards\nSpeakers\nUPS- Power Supplies\nTelephones\nRouters\nSwitches\nCell Phones\nRadios\nTablets\nGame Consoles\nCameras\nSatellite Dishes\nSecurity Systems\nCable Boxes\nChristmas Lights\nProjectors\nMicrowaves\nMixers\nToasters\nAir Fryers\nAir Purifiers/Diffusers\nRice cookers\nSmoke Detector\nVHS Tapes\nPrinters/ Copiers/ Fax machines\n\nAll other electronic items are free of charge. For a detailed list on the items\, we accept
URL:https://unitedelectronicrecycling.com/community-event/plano-electronic-recycling-event-10-7/
LOCATION:First United Methodist\, 3160 E Spring Creek Pkwy\, Plano\, Texas\, 75074
CATEGORIES:Electronic Recycling Events
END:VEVENT
BEGIN:VEVENT
DTSTART;TZID=America/Chicago:20231014T080000
DTEND;TZID=America/Chicago:20231014T120000
DTSTAMP:20260420T114916
CREATED:20231005T154427Z
LAST-MODIFIED:20231005T154443Z
UID:12655-1697270400-1697284800@unitedelectronicrecycling.com
SUMMARY:Arlington Electronic and Paper Shredding Event
DESCRIPTION:In partnership with the City of Arlington we are having a Electronic Recycling & Paper Shredding Event. This event is for Arlington residents only\, and a valid driver’s license or utility bill is required. The event will take place in parking lot of the University of Arlington\, on the corner of Cooper and Doug Russell Rd. Only cash or check payments are accepted. \nDrop-off Event Disposal Fees: \n\nPrinters\, faxes and copiers – $5/item\nCRT monitors – $10/item\nTelevisions – $25/item\n\nFree to Recycle:  \n\nAll types of cables\nDesktops\nServers\nKeyboards\nSpeakers\nUPS- Power Supplies\nTelephones\nRouters\nSwitches\nCell Phones\nRadios\nTablets\nGame Consoles\nCameras\nSatellite Dishes\nSecurity Systems\nCable Boxes\nChristmas Lights\nProjectors\nMicrowaves\nMixers\nToasters\n\nAll other electronic items are free of charge. For a detailed list on the items\, we accept \nAdditionally our shredding company Mobile Shred It will be there for paper shredding.  All paper is shredded on-site at the event. We do ask to please remove large binder clips\, plastic\, binders\, coil binding and magnets. Once shredded\, all paper is recycled\, adhering to our zero-landfill initiative for sustainability. \nShredding/Disposal Fee: \n\nStandard bankers box (15″ x 12″ x 10″) – $10/box\n\n \nPre-shredded paper is not accepted at this event.
URL:https://unitedelectronicrecycling.com/community-event/arlington-electronic-and-paper-shredding-event/
LOCATION:701 S Neederman Dr.\, 701 S Neederman Dr.\, Arlington\, TX\, 76019\, United States
CATEGORIES:Electronic Recycling Events
END:VEVENT
BEGIN:VEVENT
DTSTART;TZID=America/Chicago:20231014T090000
DTEND;TZID=America/Chicago:20231014T110000
DTSTAMP:20260420T114916
CREATED:20230914T210542Z
LAST-MODIFIED:20230914T212049Z
UID:12522-1697274000-1697281200@unitedelectronicrecycling.com
SUMMARY:Plano Electronic and Paper Shredding Event
DESCRIPTION:This Electronic Recycling Event is in partnership with the City of Plano\, everyone is welcomed!  Participants drive through the line to recycle their unwanted\, outdated and broken electronics. The event will take place in the parking lot of St Andrew Methodist Event Church\, located at 5801 W Plano Pkwy\, Plano\, TX\, 75093. Only cash or check payments are accepted. \nPlease follow these rules when you bring items to Community Recycling sites: \n \n\nStay in your vehicle.\n1 car at a time will be unloaded\, so please wait in line patiently.\n\nDrop-off Event Disposal Fees: \n\nPrinters\, faxes and copiers – $5/item\nCRT monitors – $10/item\nTelevisions – $25/item\n\nFree to Recycle:  \n\nAll types of cables\nDesktops\nServers\nKeyboards\nSpeakers\nUPS- Power Supplies\nTelephones\nRouters\nSwitches\nCell Phones\nRadios\nTablets\nGame Consoles\nCameras\nSatellite Dishes\nSecurity Systems\nCable Boxes\nChristmas Lights\nProjectors\nMicrowaves\nMixers\nToasters\n\nAll other electronic items are free of charge. For a detailed list on the items\, we accept \nAdditionally our shredding company Mobile Shred It will be there for paper shredding.  All paper is shredded on-site at the event. We do ask to please remove large binder clips\, plastic\, binders\, coil binding and magnets. Once shredded\, all paper is recycled\, adhering to our zero-landfill initiative for sustainability. \nShredding/Disposal Fee: \n\nStandard bankers box (15″ x 12″ x 10″) – $10/box\n\n \nPre-shredded paper is not accepted at this event.
URL:https://unitedelectronicrecycling.com/community-event/plano-electronic-and-paper-shredding-event-10-14/
LOCATION:St Andrew Methodist\, 5801 W Plano Pkwy\, Plano\, TX\, 75093\, United States
CATEGORIES:Electronic Recycling Events
END:VEVENT
BEGIN:VEVENT
DTSTART;TZID=America/Chicago:20231014T090000
DTEND;TZID=America/Chicago:20231014T120000
DTSTAMP:20260420T114916
CREATED:20230929T143553Z
LAST-MODIFIED:20230929T143612Z
UID:12600-1697274000-1697284800@unitedelectronicrecycling.com
SUMMARY:Murphy Electronic Recycling Event
DESCRIPTION:In partnership with the City of Murphy\, we are having a Free Electronic Recycling Event. This event is for Murphy residents only\, and a valid driver’s license or utility bill is required. The event will take place in the parking lot of Murphy City Hall\, located at 206 N Murphy Rd\, Murphy\, TX\, 75094. \n \nElectronics accepted: \n\nAll Televisions and Monitors\nAll Computers and Components\nAll Wires and Cables\nAll Network & Communication Equipment\nAll Consumer Electronics\nAll Audio/ Video Equipment\nBatteries and Backups (we do not accept alkaline batteries)\nKitchen Appliances (ex. blenders\, microwaves\, scales\, mixers)\n\nFor further information\, please visit
URL:https://unitedelectronicrecycling.com/community-event/murphy-electronic-recycling-event-10-14/
LOCATION:Murphy City Hall\, 206 N Murphy Rd\, Murphy\, 75094\, United States
CATEGORIES:Electronic Recycling Events
END:VEVENT
BEGIN:VEVENT
DTSTART;TZID=America/Chicago:20231014T090000
DTEND;TZID=America/Chicago:20231014T123000
DTSTAMP:20260420T114916
CREATED:20231003T141927Z
LAST-MODIFIED:20231003T141944Z
UID:12649-1697274000-1697286600@unitedelectronicrecycling.com
SUMMARY:Stephenville Electronic Recycling Event
DESCRIPTION:In partnership with the City of Stephenville we are having a Electronic Recycling Event. This event is for Stephenville and Erath County residents only\, and a valid driver’s license or utility bill is required. The event will take place in 1201 Glen Rose Road Stephenville\, Tx\, 76401. Only cash or check payments are accepted. \nDrop-off Event Disposal Fees: \n\nPrinters\, faxes and copiers – $5/item\nCRT monitors – $10/item\nRefrigerator- $20/ please remove the Freon\nTelevisions – $25/item\n\nFree to Recycle:  \n\nAll types of cables\nDesktops\nServers\nKeyboards\nSpeakers\nUPS- Power Supplies\nTelephones\nRouters\nSwitches\nCell Phones\nRadios\nTablets\nGame Consoles\nCameras\nSatellite Dishes\nSecurity Systems\nCable Boxes\nChristmas Lights\nProjectors\nMicrowaves\nMixers\nToasters
URL:https://unitedelectronicrecycling.com/community-event/stephenville-electronic-recycling-event-10-14/
LOCATION:1201 GLEN ROSE ROAD (MSC BUILDING) – STEPHENVILLE\, 1201 Glen Rose Road\, Stephenville\, TX\, 76401\, United States
CATEGORIES:Electronic Recycling Events
END:VEVENT
BEGIN:VEVENT
DTSTART;TZID=America/Chicago:20231014T100000
DTEND;TZID=America/Chicago:20231014T140000
DTSTAMP:20260420T114916
CREATED:20231003T142937Z
LAST-MODIFIED:20231003T142958Z
UID:12651-1697277600-1697292000@unitedelectronicrecycling.com
SUMMARY:Hurst Electronic Recycling & Paper Shredding Event
DESCRIPTION:In partnership with St Stephen’s Anglican Church\, we are having a free Electronic Recycling & Paper Shredding Event. This event is open to the public. The event will take place in 7452 Precinct Line Road in Hurst\, Tx 76054. \nElectronics Accepted \n\nComputers\nLaptops & Notebooks\nTelevisions\nFlat Screen Monitors\nPrinters/Copiers/Fax Machines\nKeyboards & Mice\nCell & Office Phones\nPower Supplies\nChargers\nBatteries & UPS\nVHS Tapes\nCables & Wire\nNetworking Equipment\nServers & Racks\nCD’s\, DVD’s\nDigital Cameras\nSmall Electronic Devices\nSmoke Detector Alarms\nVideo Game Systems\nChristmas Lights\nSmall Kitchen Appliances (microwaves\, toaster\, blender)\n\nAdditionally our shredding company Mobile Shred It will be there for free paper shredding. All paper is shredded on-site at the event. Once shredded\, all paper is recycled\, adhering to our zero-landfill initiative for sustainability. \nAccepting paper with:  \n\nStaples\nPaper clips\nRubber bands\nSmall binder clips\nFile folders\n\nNot accepting paper with:  \n\nLarge binder clips\nBinders\nCoil Binding\nHanging file folders\nPlastic Bags\nMagnets\nHard cover books\n\nPre-shredded paper is not accepted at this event
URL:https://unitedelectronicrecycling.com/community-event/hurst-electronic-recycling-10-14/
LOCATION:7452 Precinct Line Rd Hurst\, Tx 76054\, 7452 Precinct Line Rd\, Hurst\, TX\, 76054\, United States
CATEGORIES:Electronic Recycling Events
END:VEVENT
BEGIN:VEVENT
DTSTART;TZID=America/Chicago:20231021T070000
DTEND;TZID=America/Chicago:20231021T140000
DTSTAMP:20260420T114916
CREATED:20230925T174909Z
LAST-MODIFIED:20230925T182100Z
UID:12553-1697871600-1697896800@unitedelectronicrecycling.com
SUMMARY:College Station Electronic Recycling Event
DESCRIPTION:In partnership with the City of College Station & Twin Oaks Landfill\, we are having a Electronic Recycling Event. This event is free for residents of the Brazos Valley region (Grimes\, Leon\, Madison\, Washington\, Brazos\, Robertson\, and Burleson Counties). The event will take place in TAMU University Service Building \, located at 3380 University Dr E\, College Station\, TX 77845. Please enter HWY 30/ Harvey Rd\, no entry allowed from University Dr. East/Hwy 60. \n \nElectronics accepted: \n\nAll Televisions and Monitors\nAll Computers and Components\nAll Wires and Cables\nAll Network & Communication Equipment\nAll Consumer Electronics\nAll Audio/ Video Equipment\nBatteries and Backups\nKitchen Appliances (ex. blenders\, microwaves\, scales\, mixers)\n\nFor a detailed list\, please visit
URL:https://unitedelectronicrecycling.com/community-event/college-station-electronic-recycling-event-10-21-2/
LOCATION:TAMU University Services Building\, 3380 University Dr E\, College Station\, TX\, 77845\, United States
CATEGORIES:Electronic Recycling Events
END:VEVENT
BEGIN:VEVENT
DTSTART;TZID=America/Chicago:20231021T090000
DTEND;TZID=America/Chicago:20231021T110000
DTSTAMP:20260420T114916
CREATED:20230914T211158Z
LAST-MODIFIED:20230914T212040Z
UID:12524-1697878800-1697886000@unitedelectronicrecycling.com
SUMMARY:Plano Electronic and Paper Shredding Event
DESCRIPTION:This Electronic Recycling Event is in partnership with the City of Plano\, everyone is welcomed!  Participants drive through the line to recycle their unwanted\, outdated and broken electronics. The event will take place in the parking lot of Christ United Methodist Church\, located at 3101 Coit Rd\, Plano\, TX\, 75075. Only cash or check payments are accepted. \nPlease follow these rules when you bring items to Community Recycling sites: \n \n\nStay in your vehicle.\n1 car at a time will be unloaded\, so please wait in line patiently.\n\nDrop-off Event Disposal Fees: \n\nPrinters\, faxes and copiers – $5/item\nCRT monitors – $10/item\nTelevisions – $25/item\n\nFree to Recycle:  \n\nAll types of cables\nDesktops\nServers\nKeyboards\nSpeakers\nUPS- Power Supplies\nTelephones\nRouters\nSwitches\nCell Phones\nRadios\nTablets\nGame Consoles\nCameras\nSatellite Dishes\nSecurity Systems\nCable Boxes\nChristmas Lights\nProjectors\nMicrowaves\nMixers\nToasters\n\nAll other electronic items are free of charge. For a detailed list on the items\, we accept \nAdditionally our shredding company Mobile Shred It will be there for paper shredding.  All paper is shredded on-site at the event. We do ask to please remove large binder clips\, plastic\, binders\, coil binding and magnets. Once shredded\, all paper is recycled\, adhering to our zero-landfill initiative for sustainability. \nShredding/Disposal Fee: \n\nStandard bankers box (15″ x 12″ x 10″) – $10/box\n\n \nPre-shredded paper is not accepted at this event. \n 
URL:https://unitedelectronicrecycling.com/community-event/plano-electronic-and-paper-shredding-event-10-21/
LOCATION:Christ United Methodist\, 3101 Coit Rd\, Plano\, TX\, 75075\, United States
CATEGORIES:Electronic Recycling Events
END:VEVENT
BEGIN:VEVENT
DTSTART;TZID=America/Chicago:20231028T080000
DTEND;TZID=America/Chicago:20231028T120000
DTSTAMP:20260420T114916
CREATED:20230915T190426Z
LAST-MODIFIED:20230915T190439Z
UID:12527-1698480000-1698494400@unitedelectronicrecycling.com
SUMMARY:Moore Electronic Recycling Event
DESCRIPTION:In partnership with the City of Moore\, we are having a Free Electronic Recycling Event. The event will take place in the parking lot of Moore Recycle Center\, located at 220 N Telephone Rd.\, Moore\, OK\, 73160. \nElectronics accepted: \n\nAll Televisions and Monitors\nAll Computers and Components\nAll Wires and Cables\nAll Network & Communication Equipment\nAll Consumer Electronics\nAll Audio/ Video Equipment\nBatteries and Backups (we do not accept alkaline batteries)\nKitchen Appliances (ex. blenders\, microwaves\, scales\, mixers)\n\nWill not accept printers\, copiers or TV’s over 32 \nFor a detailed list\, please visit
URL:https://unitedelectronicrecycling.com/community-event/moore-electronic-recycling-event-10-28/
LOCATION:Moore Recycle Center\, 220 N Telephone Rd.\, Moore\, OK\, 73160\, United States
CATEGORIES:Electronic Recycling Events
END:VEVENT
BEGIN:VEVENT
DTSTART;TZID=America/Chicago:20231028T110000
DTEND;TZID=America/Chicago:20231028T130000
DTSTAMP:20260420T114916
CREATED:20231016T181333Z
LAST-MODIFIED:20231016T181333Z
UID:12723-1698490800-1698498000@unitedelectronicrecycling.com
SUMMARY:October/28 Dallas Electronic Recycling Event
DESCRIPTION:We are having a Electronic Recycling Event in Dallas. This is a public event\, both residential and commercial businesses are welcomed. The event will take place along the curb next to the garage entrance on Pickwick located at 6211 W Northwest Hwy\, Dallas\, TX 75225. Only cash or check payments are accepted. \nDrop-off Event Disposal Fees: \n\nCRT monitors – $10/item\nTelevisions – $25/item\nDOD Hard Drive Wipe- $20\n\nFree to Recycle:  \n\nAll types of cables/wires\nDesktops\nLaptops\nServers\nKeyboards\nSpeakers\nUPS- Power Supplies\nTelephones\nFrontier Cable Boxes\nVHS Tapes\nCD’s & DVD’s\nRouters\nSwitches\nCell Phones\nMonitors\nRadios\nTablets\nGame Consoles\nCameras\nSatellite Dishes\nSecurity Systems\nSmoke Detector Alarm\nCable Boxes\nChristmas Lights\nProjectors\nMicrowaves\nAir Fryers\nBlender\nPower Tools\nMixers\nToasters\nPrinters/ Copiers/ Fax machines\n\nAll other electronic items are free of charge. For a detailed list on the items\, we accept
URL:https://unitedelectronicrecycling.com/community-event/october-28-dallas-electronic-recycling-event/
LOCATION:6211 W Northwest Hwy\, Dallas TX 75225\, 6211 W Northwest Hwy\, Dallas\, TX\, 75225\, United States
CATEGORIES:Electronic Recycling Events
END:VEVENT
BEGIN:VEVENT
DTSTART;TZID=America/Chicago:20231028T110000
DTEND;TZID=America/Chicago:20231028T130000
DTSTAMP:20260420T114916
CREATED:20231023T142044Z
LAST-MODIFIED:20231023T142056Z
UID:12730-1698490800-1698498000@unitedelectronicrecycling.com
SUMMARY:Electronic Recycling Event\, Dallas TX
DESCRIPTION:We are having a Electronic Recycling Event in Dallas. This is a public event\, both residential and commercial businesses are welcomed. The event will take place along the curb next to the garage entrance on Pickwick located at 6211 W Northwest Hwy\, Dallas\, TX 75225. Only cash or check payments are accepted. \nDrop-off Event Disposal Fees: \n\nCRT monitors – $10/item\nTelevisions – $25/item\nDOD Hard Drive Wipe- $20\n\nFree to Recycle:  \n\nAll types of cables/wires\nDesktops\nLaptops\nServers\nKeyboards\nSpeakers\nUPS- Power Supplies\nTelephones\nFrontier Cable Boxes\nVHS Tapes\nCD’s & DVD’s\nRouters\nSwitches\nCell Phones\nMonitors\nRadios\nTablets\nGame Consoles\nCameras\nSatellite Dishes\nSecurity Systems\nSmoke Detector Alarm\nCable Boxes\nChristmas Lights\nProjectors\nMicrowaves\nAir Fryers\nBlender\nPower Tools\nMixers\nToasters\nPrinters/ Copiers/ Fax machines\n\nAll other electronic items are free of charge. For a detailed list on the items\, we accept
URL:https://unitedelectronicrecycling.com/community-event/october-28-dallas-electronic-recycling-event-2/
LOCATION:6211 W Northwest Hwy\, Dallas TX 75225\, 6211 W Northwest Hwy\, Dallas\, TX\, 75225\, United States
CATEGORIES:Electronic Recycling Events
END:VEVENT
BEGIN:VEVENT
DTSTART;TZID=America/Chicago:20231028T120000
DTEND;TZID=America/Chicago:20231028T170000
DTSTAMP:20260420T114916
CREATED:20230929T144611Z
LAST-MODIFIED:20231024T183847Z
UID:12603-1698494400-1698512400@unitedelectronicrecycling.com
SUMMARY:Norman Electronic Recycling Event
DESCRIPTION:  \n\nIn partnership with the City of Norman we are having a Free Electronic Recycling Event. This event is for Norman residents only\, and a valid driver’s license or utility bill is required. The event will take place in the parking lot of southwest entrance of Reaves Park\, located at 2501 Jenkins Ave\, Norman\, OK\, 73072. \nElectronics accepted: \n\nAll Televisions and Monitors\nAll Computers and Components\nAll Wires and Cables\nAll Network & Communication Equipment\nAll Consumer Electronics\nAll Audio/ Video Equipment\nBatteries and Backups\nKitchen Appliances (ex. blenders\, microwaves\, scales\, mixers)\n\nFor further information on items we accept\, please visit \nFor more information\, please call 405-292-9731 \n \n 
URL:https://unitedelectronicrecycling.com/community-event/norman-electronic-recycling-event-10-28/
LOCATION:Reaves Park\, 2501 Jenkins Ave\, Norman\, OK\, 73072\, United States
CATEGORIES:Electronic Recycling Events
END:VEVENT
END:VCALENDAR