BEGIN:VCALENDAR
VERSION:2.0
PRODID:-//United Electronic Recycling - ECPv6.15.20//NONSGML v1.0//EN
CALSCALE:GREGORIAN
METHOD:PUBLISH
X-ORIGINAL-URL:https://unitedelectronicrecycling.com
X-WR-CALDESC:Events for United Electronic Recycling
REFRESH-INTERVAL;VALUE=DURATION:PT1H
X-Robots-Tag:noindex
X-PUBLISHED-TTL:PT1H
BEGIN:VTIMEZONE
TZID:America/Chicago
BEGIN:DAYLIGHT
TZOFFSETFROM:-0600
TZOFFSETTO:-0500
TZNAME:CDT
DTSTART:20220313T080000
END:DAYLIGHT
BEGIN:STANDARD
TZOFFSETFROM:-0500
TZOFFSETTO:-0600
TZNAME:CST
DTSTART:20221106T070000
END:STANDARD
BEGIN:DAYLIGHT
TZOFFSETFROM:-0600
TZOFFSETTO:-0500
TZNAME:CDT
DTSTART:20230312T080000
END:DAYLIGHT
BEGIN:STANDARD
TZOFFSETFROM:-0500
TZOFFSETTO:-0600
TZNAME:CST
DTSTART:20231105T070000
END:STANDARD
BEGIN:DAYLIGHT
TZOFFSETFROM:-0600
TZOFFSETTO:-0500
TZNAME:CDT
DTSTART:20240310T080000
END:DAYLIGHT
BEGIN:STANDARD
TZOFFSETFROM:-0500
TZOFFSETTO:-0600
TZNAME:CST
DTSTART:20241103T070000
END:STANDARD
END:VTIMEZONE
BEGIN:VEVENT
DTSTART;TZID=America/Chicago:20230902T083000
DTEND;TZID=America/Chicago:20230902T130000
DTSTAMP:20260420T130445
CREATED:20230822T151624Z
LAST-MODIFIED:20230822T151703Z
UID:12454-1693643400-1693659600@unitedelectronicrecycling.com
SUMMARY:Corsicana Electronic Recycling Event
DESCRIPTION:In partnership with the City of Corsicana\, we are having a Free Electronic Recycling Event. This event is for Navarro County residents only\, and proof of residency is required. The event will take place in the parking lot of Navarro County Expo located at 4021 W State Highway 22\, Corsicana\, TX\, 75110. \nElectronics accepted: \n\nAll Televisions and Monitors\nAll Computers and Components\nAll Wires and Cables\nAll Network & Communication Equipment\nAll Consumer Electronics\nAll Audio/ Video Equipment\nBatteries and Backups (we do not accept alkaline batteries)\nKitchen Appliances (ex. blenders\, microwaves\, scales\, mixers)\n\nFor further information\, please visit
URL:https://unitedelectronicrecycling.com/community-event/corsicana-electronic-recycling-event-2/
LOCATION:Navarro County Expo Center\, 4021 W State Highway 22\, Corsicana\, TX\, 75110\, United States
CATEGORIES:Electronic Recycling Events
END:VEVENT
BEGIN:VEVENT
DTSTART;TZID=America/Chicago:20230902T090000
DTEND;TZID=America/Chicago:20230902T120000
DTSTAMP:20260420T130445
CREATED:20230801T140024Z
LAST-MODIFIED:20230801T140046Z
UID:12413-1693645200-1693656000@unitedelectronicrecycling.com
SUMMARY:Plano Electronic Recycling Event
DESCRIPTION:This Electronic Recycling Event is in partnership with the City of Plano\, everyone is welcomed!  Participants drive through the line to recycle their unwanted\, outdated and broken electronics. The event will take place in the parking lot of First United Methodist Church\, located at 3160 E Spring Creek Pkwy\, Plano\, TX\, 75074.Only cash or check payments are accepted. \nPlease follow these rules when you bring items to Community Recycling sites: \n \n\nStay in your vehicle.\n1 car at a time will be unloaded\, so please wait in line patiently.\n\nDrop-off Event Disposal Fees: \n\nPrinters\, faxes and copiers – $5/item\nCRT monitors – $10/item\nTelevisions – $25/item\n\nFree to Recycle:  \n\nAll types of cables/wires\nDesktops\nLaptops\nServers\nKeyboards\nSpeakers\nUPS- Power Supplies\nTelephones\nRouters\nSwitches\nCell Phones\nRadios\nTablets\nGame Consoles\nCameras\nSatellite Dishes\nSecurity Systems\nCable Boxes\nChristmas Lights\nProjectors\nMicrowaves\nMixers\nToasters\nAir Fryers\nAir Purifiers/Diffusers\nRice cookers\nSmoke Detector\nVHS Tapes\nPrinters/ Copiers/ Fax machines\n\nAll other electronic items are free of charge. For a detailed list on the items\, we accept
URL:https://unitedelectronicrecycling.com/community-event/plano-electronic-recycling-event-9-2/
LOCATION:First United Methodist\, 3160 E Spring Creek Pkwy\, Plano\, Texas\, 75074
CATEGORIES:Electronic Recycling Events
END:VEVENT
BEGIN:VEVENT
DTSTART;TZID=America/Chicago:20230909T090000
DTEND;TZID=America/Chicago:20230909T110000
DTSTAMP:20260420T130445
CREATED:20230801T140847Z
LAST-MODIFIED:20230801T140857Z
UID:12415-1694250000-1694257200@unitedelectronicrecycling.com
SUMMARY:Plano Electronic and Paper Shredding Event
DESCRIPTION:This Electronic Recycling Event is in partnership with the City of Plano\, everyone is welcomed!  Participants drive through the line to recycle their unwanted\, outdated and broken electronics. The event will take place in the parking lot of St Andrew Methodist Event Church\, located at 5801 W Plano Pkwy\, Plano\, TX\, 75093. Only cash or check payments are accepted. \nPlease follow these rules when you bring items to Community Recycling sites: \n \n\nStay in your vehicle.\n1 car at a time will be unloaded\, so please wait in line patiently.\n\nDrop-off Event Disposal Fees: \n\nPrinters\, faxes and copiers – $5/item\nCRT monitors – $10/item\nTelevisions – $25/item\n\nFree to Recycle:  \n\nAll types of cables\nDesktops\nServers\nKeyboards\nSpeakers\nUPS- Power Supplies\nTelephones\nRouters\nSwitches\nCell Phones\nRadios\nTablets\nGame Consoles\nCameras\nSatellite Dishes\nSecurity Systems\nCable Boxes\nChristmas Lights\nProjectors\nMicrowaves\nMixers\nToasters\n\nAll other electronic items are free of charge. For a detailed list on the items\, we accept \nAdditionally our shredding company Mobile Shred It will be there for paper shredding.  All paper is shredded on-site at the event. We do ask to please remove large binder clips\, plastic\, binders\, coil binding and magnets. Once shredded\, all paper is recycled\, adhering to our zero-landfill initiative for sustainability. \nShredding/Disposal Fee: \n\nStandard bankers box (15″ x 12″ x 10″) – $10/box\n\n \nPre-shredded paper is not accepted at this event. \n 
URL:https://unitedelectronicrecycling.com/community-event/plano-electronic-and-paper-shredding-event-9-9/
LOCATION:St Andrew Methodist\, 5801 W Plano Pkwy\, Plano\, TX\, 75093\, United States
CATEGORIES:Electronic Recycling Events
END:VEVENT
BEGIN:VEVENT
DTSTART;TZID=America/Chicago:20230916T090000
DTEND;TZID=America/Chicago:20230916T110000
DTSTAMP:20260420T130445
CREATED:20230801T141600Z
LAST-MODIFIED:20230801T141614Z
UID:12417-1694854800-1694862000@unitedelectronicrecycling.com
SUMMARY:Plano Electronic and Paper Shredding Event
DESCRIPTION:This Electronic Recycling Event is in partnership with the City of Plano\, everyone is welcomed!  Participants drive through the line to recycle their unwanted\, outdated and broken electronics. The event will take place in the parking lot of Christ United Methodist Church\, located at 3101 Coit Rd\, Plano\, TX\, 75075. Only cash or check payments are accepted. \nPlease follow these rules when you bring items to Community Recycling sites: \n \n\nStay in your vehicle.\n1 car at a time will be unloaded\, so please wait in line patiently.\n\nDrop-off Event Disposal Fees: \n\nPrinters\, faxes and copiers – $5/item\nCRT monitors – $10/item\nTelevisions – $25/item\n\nFree to Recycle:  \n\nAll types of cables\nDesktops\nServers\nKeyboards\nSpeakers\nUPS- Power Supplies\nTelephones\nRouters\nSwitches\nCell Phones\nRadios\nTablets\nGame Consoles\nCameras\nSatellite Dishes\nSecurity Systems\nCable Boxes\nChristmas Lights\nProjectors\nMicrowaves\nMixers\nToasters\n\nAll other electronic items are free of charge. For a detailed list on the items\, we accept \nAdditionally our shredding company Mobile Shred It will be there for paper shredding.  All paper is shredded on-site at the event. We do ask to please remove large binder clips\, plastic\, binders\, coil binding and magnets. Once shredded\, all paper is recycled\, adhering to our zero-landfill initiative for sustainability. \nShredding/Disposal Fee: \n\nStandard bankers box (15″ x 12″ x 10″) – $10/box\n\n \nPre-shredded paper is not accepted at this event.
URL:https://unitedelectronicrecycling.com/community-event/plano-electronic-and-paper-shredding-event-9-16/
LOCATION:Christ United Methodist\, 3101 Coit Rd\, Plano\, TX\, 75075\, United States
CATEGORIES:Electronic Recycling Events
END:VEVENT
BEGIN:VEVENT
DTSTART;TZID=America/Chicago:20230923T090000
DTEND;TZID=America/Chicago:20230923T120000
DTSTAMP:20260420T130445
CREATED:20230907T163742Z
LAST-MODIFIED:20230907T163751Z
UID:12500-1695459600-1695470400@unitedelectronicrecycling.com
SUMMARY:Nichols Hills Electronic Recycling Event
DESCRIPTION:In partnership with the City of Nichols Hills\, we are having a Free Electronic Recycling Event. This event is for Nichols Hills residents only\, and proof of residency is required. The event will take place in the parking lot of former location of First Christian Science Church located at 1203 Sherwood Lane\, Nichols Hills\, OK\, 73116. \nItems accepted for recycling:  \n\nAll types of cables/wires\nDesktops\nTelevisions\nLaptops\nServers\nPrinters\nHard drives\nSmoke detector alarms\nVHS tapes\nKeyboards\nSpeakers\nUPS- Power Supplies\nTelephones\nRouters\nSwitches\nCell Phones\nRadios\nTablets\nGame Consoles\nCameras\nSatellite Dishes\nSecurity Systems\nCable Boxes\nChristmas Lights\nProjectors\nMicrowaves\nMixers\nToasters\n\nFor further information\, please visit
URL:https://unitedelectronicrecycling.com/community-event/nichols-hills-electronic-recycling-event/
LOCATION:1203 Sherwood Lane\, Nichols Hills\, OK\, 73116\, 1203 Sherwood Lane\, Nichols Hills\, OK\, 73116\, United States
CATEGORIES:Electronic Recycling Events
END:VEVENT
END:VCALENDAR