BEGIN:VCALENDAR
VERSION:2.0
PRODID:-//United Electronic Recycling - ECPv6.15.20//NONSGML v1.0//EN
CALSCALE:GREGORIAN
METHOD:PUBLISH
X-WR-CALNAME:United Electronic Recycling
X-ORIGINAL-URL:https://unitedelectronicrecycling.com
X-WR-CALDESC:Events for United Electronic Recycling
REFRESH-INTERVAL;VALUE=DURATION:PT1H
X-Robots-Tag:noindex
X-PUBLISHED-TTL:PT1H
BEGIN:VTIMEZONE
TZID:America/Chicago
BEGIN:DAYLIGHT
TZOFFSETFROM:-0600
TZOFFSETTO:-0500
TZNAME:CDT
DTSTART:20220313T080000
END:DAYLIGHT
BEGIN:STANDARD
TZOFFSETFROM:-0500
TZOFFSETTO:-0600
TZNAME:CST
DTSTART:20221106T070000
END:STANDARD
BEGIN:DAYLIGHT
TZOFFSETFROM:-0600
TZOFFSETTO:-0500
TZNAME:CDT
DTSTART:20230312T080000
END:DAYLIGHT
BEGIN:STANDARD
TZOFFSETFROM:-0500
TZOFFSETTO:-0600
TZNAME:CST
DTSTART:20231105T070000
END:STANDARD
BEGIN:DAYLIGHT
TZOFFSETFROM:-0600
TZOFFSETTO:-0500
TZNAME:CDT
DTSTART:20240310T080000
END:DAYLIGHT
BEGIN:STANDARD
TZOFFSETFROM:-0500
TZOFFSETTO:-0600
TZNAME:CST
DTSTART:20241103T070000
END:STANDARD
END:VTIMEZONE
BEGIN:VEVENT
DTSTART;TZID=America/Chicago:20230701T090000
DTEND;TZID=America/Chicago:20230701T120000
DTSTAMP:20260420T161159
CREATED:20230615T210736Z
LAST-MODIFIED:20230615T210748Z
UID:12257-1688202000-1688212800@unitedelectronicrecycling.com
SUMMARY:Plano Electronic Recycling Event
DESCRIPTION:This Electronic Recycling Event is in partnership with the City of Plano\, everyone is welcomed!  Participants drive through the line to recycle their unwanted\, outdated and broken electronics. The event will take place in the parking lot of First United Methodist Church\, located at 3160 E Spring Creek Pkwy\, Plano\, TX\, 75074.Only cash or check payments are accepted. \nPlease follow these rules when you bring items to Community Recycling sites: \n \n\nStay in your vehicle.\n1 car at a time will be unloaded\, so please wait in line patiently.\n\nDrop-off Event Disposal Fees: \n\nPrinters\, faxes and copiers – $5/item\nCRT monitors – $10/item\nTelevisions – $25/item\n\nFree to Recycle:  \n\nAll types of cables/wires\nDesktops\nLaptops\nServers\nKeyboards\nSpeakers\nUPS- Power Supplies\nTelephones\nRouters\nSwitches\nCell Phones\nRadios\nTablets\nGame Consoles\nCameras\nSatellite Dishes\nSecurity Systems\nCable Boxes\nChristmas Lights\nProjectors\nMicrowaves\nMixers\nToasters\nAir Fryers\nAir Purifiers/Diffusers\nRice cookers\nSmoke Detector\nVHS Tapes\nPrinters/ Copiers/ Fax machines\n\nAll other electronic items are free of charge. For a detailed list on the items\, we accept
URL:https://unitedelectronicrecycling.com/community-event/plano-electronic-recycling-event-6-15/
LOCATION:First United Methodist\, 3160 E Spring Creek Pkwy\, Plano\, Texas\, 75074
CATEGORIES:Electronic Recycling Events
END:VEVENT
BEGIN:VEVENT
DTSTART;TZID=America/Chicago:20230708T090000
DTEND;TZID=America/Chicago:20230708T120000
DTSTAMP:20260420T161159
CREATED:20230615T211628Z
LAST-MODIFIED:20230615T211641Z
UID:12259-1688806800-1688817600@unitedelectronicrecycling.com
SUMMARY:Plano Electronic and Paper Shredding Event
DESCRIPTION:This Electronic Recycling Event is in partnership with the City of Plano\, everyone is welcomed!  Participants drive through the line to recycle their unwanted\, outdated and broken electronics. The event will take place in the parking lot of St Andrew Methodist Event Church\, located at 5801 W Plano Pkwy\, Plano\, TX\, 75093. Only cash or check payments are accepted. \nPlease follow these rules when you bring items to Community Recycling sites: \n \n\nStay in your vehicle.\n1 car at a time will be unloaded\, so please wait in line patiently.\n\nDrop-off Event Disposal Fees: \n\nPrinters\, faxes and copiers – $5/item\nCRT monitors – $10/item\nTelevisions – $25/item\n\nFree to Recycle:  \n\nAll types of cables\nDesktops\nServers\nKeyboards\nSpeakers\nUPS- Power Supplies\nTelephones\nRouters\nSwitches\nCell Phones\nRadios\nTablets\nGame Consoles\nCameras\nSatellite Dishes\nSecurity Systems\nCable Boxes\nChristmas Lights\nProjectors\nMicrowaves\nMixers\nToasters\n\nAll other electronic items are free of charge. For a detailed list on the items\, we accept \nAdditionally our shredding company Mobile Shred It will be there for paper shredding.  All paper is shredded on-site at the event. We do ask to please remove large binder clips\, plastic\, binders\, coil binding and magnets. Once shredded\, all paper is recycled\, adhering to our zero-landfill initiative for sustainability. \nShredding/Disposal Fee: \n\nStandard bankers box (15″ x 12″ x 10″) – $10/box\n\n \nPre-shredded paper is not accepted at this event.
URL:https://unitedelectronicrecycling.com/community-event/plano-electronic-and-paper-shredding-event-7-8/
LOCATION:St Andrew Methodist\, 5801 W Plano Pkwy\, Plano\, TX\, 75093\, United States
CATEGORIES:Electronic Recycling Events
END:VEVENT
BEGIN:VEVENT
DTSTART;TZID=America/Chicago:20230715T090000
DTEND;TZID=America/Chicago:20230715T110000
DTSTAMP:20260420T161159
CREATED:20230711T154440Z
LAST-MODIFIED:20230711T154455Z
UID:12290-1689411600-1689418800@unitedelectronicrecycling.com
SUMMARY:Plano Electronic and Paper Shredding Event
DESCRIPTION:This Electronic Recycling Event is in partnership with the City of Plano\, everyone is welcomed!  Participants drive through the line to recycle their unwanted\, outdated and broken electronics. The event will take place in the parking lot of Christ United Methodist Church\, located at 3101 Coit Rd\, Plano\, TX\, 75075. Only cash or check payments are accepted. \nPlease follow these rules when you bring items to Community Recycling sites: \n \n\nStay in your vehicle.\n1 car at a time will be unloaded\, so please wait in line patiently.\n\nDrop-off Event Disposal Fees: \n\nPrinters\, faxes and copiers – $5/item\nCRT monitors – $10/item\nTelevisions – $25/item\n\nFree to Recycle:  \n\nAll types of cables\nDesktops\nServers\nKeyboards\nSpeakers\nUPS- Power Supplies\nTelephones\nRouters\nSwitches\nCell Phones\nRadios\nTablets\nGame Consoles\nCameras\nSatellite Dishes\nSecurity Systems\nCable Boxes\nChristmas Lights\nProjectors\nMicrowaves\nMixers\nToasters\n\nAll other electronic items are free of charge. For a detailed list on the items\, we accept \nAdditionally our shredding company Mobile Shred It will be there for paper shredding.  All paper is shredded on-site at the event. We do ask to please remove large binder clips\, plastic\, binders\, coil binding and magnets. Once shredded\, all paper is recycled\, adhering to our zero-landfill initiative for sustainability. \nShredding/Disposal Fee: \n\nStandard bankers box (15″ x 12″ x 10″) – $10/box\n\n \nPre-shredded paper is not accepted at this event.
URL:https://unitedelectronicrecycling.com/community-event/plano-electronic-and-paper-shredding-event-7-15/
LOCATION:Christ United Methodist\, 3101 Coit Rd\, Plano\, TX\, 75075\, United States
CATEGORIES:Electronic Recycling Events
END:VEVENT
BEGIN:VEVENT
DTSTART;TZID=America/Chicago:20230729T080000
DTEND;TZID=America/Chicago:20230729T120000
DTSTAMP:20260420T161159
CREATED:20230725T210919Z
LAST-MODIFIED:20230725T210919Z
UID:12342-1690617600-1690632000@unitedelectronicrecycling.com
SUMMARY:Celina Electronic Recycling and Paper Shredding Event
DESCRIPTION:In partnership with the City of Celina\, we are having a Free Electronic Recycling Event. This event is for Celina residents only\, and proof of residency is required. The event will take place in the parking lot of the Public Works building\, located at 10165 Country Road 106 Celina\, TX 75009. \n \nItems accepted for recycling:  \n\nAll types of cables/wires\nDesktops\nLaptops\nServers\nHard drives\nSmoke detector alarms\nVHS tapes\nKeyboards\nSpeakers\nUPS- Power Supplies\nTelephones\nRouters\nSwitches\nCell Phones\nRadios\nTablets\nGame Consoles\nCameras\nSatellite Dishes\nSecurity Systems\nCable Boxes\nChristmas Lights\nProjectors\nMicrowaves\nMixers\nToasters\nPrinters/ Copiers/ Fax machines\n\nAdditionally our shredding company Mobile Shred It will be there for free paper shredding. All paper is shredded on-site at the event. We do ask to please remove large binder clips\, plastic\, binders\, coil binding and magnets. Once shredded\, all paper is recycled\, adhering to our zero-landfill initiative for sustainability. \nPre-shredded paper is not accepted at this event
URL:https://unitedelectronicrecycling.com/community-event/celina-electronic-paper-shredding-event/
LOCATION:Public Works Building\, 10165 Country Rd.\, Celina\, TX\, 75009\, United States
CATEGORIES:Electronic Recycling Events
END:VEVENT
END:VCALENDAR