BEGIN:VCALENDAR
VERSION:2.0
PRODID:-//United Electronic Recycling - ECPv6.15.20//NONSGML v1.0//EN
CALSCALE:GREGORIAN
METHOD:PUBLISH
X-WR-CALNAME:United Electronic Recycling
X-ORIGINAL-URL:https://unitedelectronicrecycling.com
X-WR-CALDESC:Events for United Electronic Recycling
REFRESH-INTERVAL;VALUE=DURATION:PT1H
X-Robots-Tag:noindex
X-PUBLISHED-TTL:PT1H
BEGIN:VTIMEZONE
TZID:America/Chicago
BEGIN:DAYLIGHT
TZOFFSETFROM:-0600
TZOFFSETTO:-0500
TZNAME:CDT
DTSTART:20220313T080000
END:DAYLIGHT
BEGIN:STANDARD
TZOFFSETFROM:-0500
TZOFFSETTO:-0600
TZNAME:CST
DTSTART:20221106T070000
END:STANDARD
BEGIN:DAYLIGHT
TZOFFSETFROM:-0600
TZOFFSETTO:-0500
TZNAME:CDT
DTSTART:20230312T080000
END:DAYLIGHT
BEGIN:STANDARD
TZOFFSETFROM:-0500
TZOFFSETTO:-0600
TZNAME:CST
DTSTART:20231105T070000
END:STANDARD
BEGIN:DAYLIGHT
TZOFFSETFROM:-0600
TZOFFSETTO:-0500
TZNAME:CDT
DTSTART:20240310T080000
END:DAYLIGHT
BEGIN:STANDARD
TZOFFSETFROM:-0500
TZOFFSETTO:-0600
TZNAME:CST
DTSTART:20241103T070000
END:STANDARD
END:VTIMEZONE
BEGIN:VEVENT
DTSTART;TZID=America/Chicago:20230506T090000
DTEND;TZID=America/Chicago:20230506T120000
DTSTAMP:20260420T185124
CREATED:20230413T141302Z
LAST-MODIFIED:20230501T141853Z
UID:11946-1683363600-1683374400@unitedelectronicrecycling.com
SUMMARY:Plano Electronic Recycling Event
DESCRIPTION:This Electronic Recycling Event is in partnership with the City of Plano\, everyone is welcomed!  Participants drive through the line to recycle their unwanted\, outdated and broken electronics. The event will take place in the parking lot of First United Methodist Church\, located at 3160 E Spring Creek Pkwy\, Plano\, TX\, 75074.Only cash or check payments are accepted. \nPlease follow these rules when you bring items to Community Recycling sites: \n \n\nStay in your vehicle.\n1 car at a time will be unloaded\, so please wait in line patiently.\n\nDrop-off Event Disposal Fees: \n\nPrinters\, faxes and copiers – $5/item\nCRT monitors – $10/item\nTelevisions – $25/item\n\nUER cannot accept TVs\, LCD or CRT monitors with broken screens.\n\n\n\nFree to Recycle:  \n\nAll types of cables/wires\nDesktops\nLaptops\nServers\nKeyboards\nSpeakers\nUPS- Power Supplies\nTelephones\nRouters\nSwitches\nCell Phones\nRadios\nTablets\nGame Consoles\nCameras\nSatellite Dishes\nSecurity Systems\nCable Boxes\nChristmas Lights\nProjectors\nMicrowaves\nMixers\nToasters\nAir Fryers\nAir Purifiers/Diffusers\nRice cookers\nSmoke Detector\nVHS Tapes\nPrinters/ Copiers/ Fax machines\n\nAll other electronic items are free of charge. For a detailed list on the items\, we accept
URL:https://unitedelectronicrecycling.com/community-event/plano-electronic-recycling-event-6/
LOCATION:First United Methodist\, 3160 E Spring Creek Pkwy\, Plano\, Texas\, 75074
CATEGORIES:Electronic Recycling Events
END:VEVENT
BEGIN:VEVENT
DTSTART;TZID=America/Chicago:20230506T090000
DTEND;TZID=America/Chicago:20230506T120000
DTSTAMP:20260420T185125
CREATED:20230414T202741Z
LAST-MODIFIED:20230414T202849Z
UID:11955-1683363600-1683374400@unitedelectronicrecycling.com
SUMMARY:Norman Electronic Recycling Event
DESCRIPTION:In partnership with the City of Norman we are having a Free Electronic Recycling Event. This event is for Norman residents only\, and a valid driver’s license or utility bill is required. The event will take place in the parking lot of southwest entrance of Reaves Park\, located at 2501 Jenkins Ave\, Norman\, OK\, 73072. \nElectronics accepted: \n\nAll Televisions and Monitors\nAll Computers and Components\nAll Wires and Cables\nAll Network & Communication Equipment\nAll Consumer Electronics\nAll Audio/ Video Equipment\nBatteries and Backups (we do not accept alkaline batteries)\nKitchen Appliances (ex. blenders\, microwaves\, scales\, mixers)\n\nFor further information on items we accept\, please visit \nFor more information\, please call 405-292-9731 \n 
URL:https://unitedelectronicrecycling.com/community-event/norman-electronic-recycling-event/
LOCATION:Reaves Park\, 2501 Jenkins Ave\, Norman\, OK\, 73072\, United States
CATEGORIES:Electronic Recycling Events
END:VEVENT
BEGIN:VEVENT
DTSTART;TZID=America/Chicago:20230506T100000
DTEND;TZID=America/Chicago:20230506T120000
DTSTAMP:20260420T185125
CREATED:20230419T150702Z
LAST-MODIFIED:20230419T150735Z
UID:11967-1683367200-1683374400@unitedelectronicrecycling.com
SUMMARY:Private HOA Electronic Recycling Event in Valley Ranch
DESCRIPTION:In partnership with the Valley Ranch Association\, we are having a Electronic Recycling Event. This event is for Valley Ranch HOA only. The event will take place in the parking lot of Valley Ranch Association Building  located at 8830 N Macarthur Blvd Ste 101 \, Irving\, TX\, 75063. \n  \n \nDrop-off Event Disposal Fees: \n\nCRT monitors – $5/item\nTelevisions – $25/item\nItems containing Freon-$20\n\nElectronics accepted: \n\nAll Televisions and Monitors\nAll Computers and Components\nAll Wires and Cables\nAll Network & Communication Equipment\nAll Consumer Electronics\nAll Audio/ Video Equipment\nBatteries and Backups (we do not accept alkaline batteries)\nKitchen Appliances (ex. blenders\, microwaves\, scales\, mixers)\n\nFor further information\, please visit
URL:https://unitedelectronicrecycling.com/community-event/private-hoa-electronic-recycling-event-in-valley-ranch/
LOCATION:Valley Ranch Association\, 8830 N Macarthur Blvd Ste 101\, Irving\, TX\, 75063\, United States
CATEGORIES:Electronic Recycling Events
END:VEVENT
BEGIN:VEVENT
DTSTART;TZID=America/Chicago:20230506T150000
DTEND;TZID=America/Chicago:20230506T170000
DTSTAMP:20260420T185125
CREATED:20230418T163143Z
LAST-MODIFIED:20230418T163229Z
UID:11972-1683385200-1683392400@unitedelectronicrecycling.com
SUMMARY:Private HOA Electronic Recycling Event in Craig Ranch
DESCRIPTION:In partnership with the Craig Ranch Community Association\, we are having a Free Electronic Recycling Event. This event is for Craig Ranch HOA only. The event will take place in the parking lot of Compass Community Center located at 7225 Henneman Way\, Allen\, TX\, 75013. \nElectronics accepted: \n\nAll Televisions and Monitors\nAll Computers and Components\nAll Wires and Cables\nAll Network & Communication Equipment\nAll Consumer Electronics\nAll Audio/ Video Equipment\nBatteries and Backups\nKitchen Appliances (ex. blenders\, microwaves\, scales\, mixers)\n\nFor further information\, please visit \n 
URL:https://unitedelectronicrecycling.com/community-event/private-hoa-electronic-recycling-event-in-craig-ranch/
LOCATION:Compass Community Center\, 7225 Henneman Way\, McKinney\, TX\, 75070\, United States
CATEGORIES:Electronic Recycling Events
END:VEVENT
BEGIN:VEVENT
DTSTART;TZID=America/Chicago:20230513T090000
DTEND;TZID=America/Chicago:20230513T110000
DTSTAMP:20260420T185125
CREATED:20230413T142306Z
LAST-MODIFIED:20230426T191104Z
UID:11948-1683968400-1683975600@unitedelectronicrecycling.com
SUMMARY:Plano Electronic and Paper Shredding Event
DESCRIPTION:This Electronic Recycling Event is in partnership with the City of Plano\, everyone is welcomed!  Participants drive through the line to recycle their unwanted\, outdated and broken electronics. The event will take place in the parking lot of St Andrew Methodist Event Church\, located at 5801 W Plano Pkwy\, Plano\, TX\, 75093. Only cash or check payments are accepted. \nPlease follow these rules when you bring items to Community Recycling sites: \n \n\nStay in your vehicle.\n1 car at a time will be unloaded\, so please wait in line patiently.\n\nDrop-off Event Disposal Fees: \n\nPrinters\, faxes and copiers – $5/item\nCRT monitors – $10/item\nTelevisions – $25/item\n\nFree to Recycle:  \n\nAll types of cables\nDesktops\nServers\nKeyboards\nSpeakers\nUPS- Power Supplies\nTelephones\nRouters\nSwitches\nCell Phones\nRadios\nTablets\nGame Consoles\nCameras\nSatellite Dishes\nSecurity Systems\nCable Boxes\nChristmas Lights\nProjectors\nMicrowaves\nMixers\nToasters\n\nAll other electronic items are free of charge. For a detailed list on the items\, we accept \nAdditionally our shredding company Mobile Shred It will be there for paper shredding.  All paper is shredded on-site at the event. We do ask to please remove large binder clips\, plastic\, binders\, coil binding and magnets. Once shredded\, all paper is recycled\, adhering to our zero-landfill initiative for sustainability. \nShredding/Disposal Fee: \n\nStandard bankers box (15″ x 12″ x 10″) – $10/box\n\n \nPre-shredded paper is not accepted at this event. \n 
URL:https://unitedelectronicrecycling.com/community-event/plano-electronic-and-paper-shredding-event/
LOCATION:St Andrew Methodist\, 5801 W Plano Pkwy\, Plano\, TX\, 75093\, United States
CATEGORIES:Electronic Recycling Events
END:VEVENT
BEGIN:VEVENT
DTSTART;TZID=America/Chicago:20230520T090000
DTEND;TZID=America/Chicago:20230520T110000
DTSTAMP:20260420T185125
CREATED:20230413T142729Z
LAST-MODIFIED:20230426T191136Z
UID:11952-1684573200-1684580400@unitedelectronicrecycling.com
SUMMARY:Plano Electronic and Paper Shredding Event
DESCRIPTION:This Electronic Recycling Event is in partnership with the City of Plano\, everyone is welcomed!  Participants drive through the line to recycle their unwanted\, outdated and broken electronics. The event will take place in the parking lot of Christ United Methodist Church\, located at 3101 Coit Rd\, Plano\, TX\, 75075. Only cash or check payments are accepted. \nPlease follow these rules when you bring items to Community Recycling sites: \n \n\nStay in your vehicle.\n1 car at a time will be unloaded\, so please wait in line patiently.\n\nDrop-off Event Disposal Fees: \n\nPrinters\, faxes and copiers – $5/item\nCRT monitors – $10/item\nTelevisions – $25/item\n\nFree to Recycle:  \n\nAll types of cables\nDesktops\nServers\nKeyboards\nSpeakers\nUPS- Power Supplies\nTelephones\nRouters\nSwitches\nCell Phones\nRadios\nTablets\nGame Consoles\nCameras\nSatellite Dishes\nSecurity Systems\nCable Boxes\nChristmas Lights\nProjectors\nMicrowaves\nMixers\nToasters\n\nAll other electronic items are free of charge. For a detailed list on the items\, we accept \nAdditionally our shredding company Mobile Shred It will be there for paper shredding.  All paper is shredded on-site at the event. We do ask to please remove large binder clips\, plastic\, binders\, coil binding and magnets. Once shredded\, all paper is recycled\, adhering to our zero-landfill initiative for sustainability. \nShredding/Disposal Fee: \n\nStandard file box (15″ x 12″ x 10″) – $10/box\n\n \nPre-shredded paper is not accepted at this event.
URL:https://unitedelectronicrecycling.com/community-event/plano-electronic-recycling-event-7/
LOCATION:Christ United Methodist\, 3101 Coit Rd\, Plano\, TX\, 75075\, United States
CATEGORIES:Electronic Recycling Events
END:VEVENT
END:VCALENDAR